BEGIN:VCALENDAR
VERSION:2.0
PRODID:-//The Nature Foundation at Wintergreen - ECPv6.15.14//NONSGML v1.0//EN
CALSCALE:GREGORIAN
METHOD:PUBLISH
X-ORIGINAL-URL:https://tnfw.org
X-WR-CALDESC:Events for The Nature Foundation at Wintergreen
REFRESH-INTERVAL;VALUE=DURATION:PT1H
X-Robots-Tag:noindex
X-PUBLISHED-TTL:PT1H
BEGIN:VTIMEZONE
TZID:America/New_York
BEGIN:DAYLIGHT
TZOFFSETFROM:-0500
TZOFFSETTO:-0400
TZNAME:EDT
DTSTART:20250309T070000
END:DAYLIGHT
BEGIN:STANDARD
TZOFFSETFROM:-0400
TZOFFSETTO:-0500
TZNAME:EST
DTSTART:20251102T060000
END:STANDARD
BEGIN:DAYLIGHT
TZOFFSETFROM:-0500
TZOFFSETTO:-0400
TZNAME:EDT
DTSTART:20260308T070000
END:DAYLIGHT
BEGIN:STANDARD
TZOFFSETFROM:-0400
TZOFFSETTO:-0500
TZNAME:EST
DTSTART:20261101T060000
END:STANDARD
BEGIN:DAYLIGHT
TZOFFSETFROM:-0500
TZOFFSETTO:-0400
TZNAME:EDT
DTSTART:20270314T070000
END:DAYLIGHT
BEGIN:STANDARD
TZOFFSETFROM:-0400
TZOFFSETTO:-0500
TZNAME:EST
DTSTART:20271107T060000
END:STANDARD
END:VTIMEZONE
BEGIN:VEVENT
DTSTART;TZID=America/New_York:20260305T090000
DTEND;TZID=America/New_York:20260305T120000
DTSTAMP:20260420T000126
CREATED:20251129T143057Z
LAST-MODIFIED:20260102T181422Z
UID:10000192-1772701200-1772712000@tnfw.org
SUMMARY:Blue Quartz Hill on the Tye River Excursion - March 5\, 2025
DESCRIPTION:Join geologist Chuck Bailey for a fascinating geology and natural history walk along the scenic Tye River. The hike will conclude at Chuck’s pavilion with lively discussion and hot cider. Please bring water and a snack. Payment is due at time of registration.
URL:https://tnfw.org/event/blue-quartz-hill-on-the-tye-river-excursion-march-5-2025/
LOCATION:The Nature Foundation at Wintergreen\, 3421 Wintergreen Dr\, Roseland\, VA\, 22967\, United States
CATEGORIES:Hike
ATTACH;FMTTYPE=image/jpeg:https://tnfw.org/wp-content/uploads/2025/11/ConfluenceTyeJamesRivers.jpg
END:VEVENT
BEGIN:VEVENT
DTSTART;TZID=America/New_York:20260314T130000
DTEND;TZID=America/New_York:20260314T150000
DTSTAMP:20260420T000126
CREATED:20251130T170043Z
LAST-MODIFIED:20260307T165801Z
UID:10000191-1773493200-1773500400@tnfw.org
SUMMARY:Living with Nature at Wintergreen - March 14\, 2026
DESCRIPTION:Join a Foundation Naturalist for an interpretive hike. Explore Wintergreen’s natural environment during the exhilarating month of March! These hikes are rated moderate. Payment is due at time of registration.
URL:https://tnfw.org/event/living-with-nature-at-wintergreen-march-14-2026/
LOCATION:The Nature Foundation at Wintergreen\, 3421 Wintergreen Dr\, Roseland\, VA\, 22967\, United States
CATEGORIES:Hikes,Living with Nature at Wintergreen Hike
ATTACH;FMTTYPE=image/jpeg:https://tnfw.org/wp-content/uploads/2024/11/valley-trail.jpg
END:VEVENT
BEGIN:VEVENT
DTSTART;TZID=America/New_York:20260316T130000
DTEND;TZID=America/New_York:20260316T150000
DTSTAMP:20260420T000126
CREATED:20251130T170032Z
LAST-MODIFIED:20251126T163448Z
UID:10000190-1773666000-1773673200@tnfw.org
SUMMARY:Community Walk - March 16\, 2026
DESCRIPTION:Chase away those winter blues by discovering the emerging new growth of early bloomers. Join your neighbors and friends as we scan the area for new emerging vegetation. Meet Emily Ferguson\, a TNFW volunteer\, at the Allen Creek Nature Preserve trailhead near the junction of Towhee Ct and Stoney Creek East. Please wear appropriate footwear if it’s been rainy. This hike is rated moderate. Please register in advance online.
URL:https://tnfw.org/event/community-walk-march-16-2026/
LOCATION:The Nature Foundation at Wintergreen\, 3421 Wintergreen Dr\, Roseland\, VA\, 22967\, United States
CATEGORIES:Community Walk,Hikes
ATTACH;FMTTYPE=image/jpeg:https://tnfw.org/wp-content/uploads/2025/11/maxresdefault.jpg
END:VEVENT
BEGIN:VEVENT
DTSTART;TZID=America/New_York:20260318T090000
DTEND;TZID=America/New_York:20260318T150000
DTSTAMP:20260420T000126
CREATED:20251130T170007Z
LAST-MODIFIED:20260317T135116Z
UID:10000188-1773824400-1773846000@tnfw.org
SUMMARY:Trek Up Three Ridges - 03/18/2026
DESCRIPTION:Join Josh Palumbo as we summit Three Ridges. Take advantage of the leafless trees and get lovely views as we peak atop our neighbor mountain to the south. The hike is approximately 8.8 miles out to the summit of this popular local hike. Be sure to dress for variable late winter weather. This hike is rated as difficult. Bring plenty of food and water. Payment is due at time of registration.
URL:https://tnfw.org/event/trek-up-three-ridges-03-18-2025/
CATEGORIES:Hike
ATTACH;FMTTYPE=image/jpeg:https://tnfw.org/wp-content/uploads/2025/05/Furnace-Mountain-Summit-Views-Feature-800x445-1.jpg
END:VEVENT
BEGIN:VEVENT
DTSTART;TZID=America/New_York:20260325T090000
DTEND;TZID=America/New_York:20260325T160000
DTSTAMP:20260420T000126
CREATED:20251130T170025Z
LAST-MODIFIED:20251130T003829Z
UID:10000186-1774429200-1774454400@tnfw.org
SUMMARY:Journey to High Places - March 25\, 2026
DESCRIPTION:Join Kathie Driscoll for a challenging yet rewarding hike along the Appalachian Trail at Long Mountain (Route 60). This strenuous 8-mile out-and-back hike follows scenic Brown Mountain Creek\, where you’ll experience the beauty of early spring ephemerals\, the pristine mountain stream\, and the historic remnants of the Brown Mountain community. Bring plenty of water\, lunch and snack.
URL:https://tnfw.org/event/journey-to-high-places-march-25-2025/
LOCATION:The Nature Foundation at Wintergreen\, 3421 Wintergreen Dr\, Roseland\, VA\, 22967\, United States
CATEGORIES:Hike,Hikes
ATTACH;FMTTYPE=image/jpeg:https://tnfw.org/wp-content/uploads/2025/11/Brown-Mountain-Creek-Sign-1.jpg
END:VEVENT
END:VCALENDAR