BEGIN:VCALENDAR
VERSION:2.0
PRODID:-//The Nature Foundation at Wintergreen - ECPv6.15.14//NONSGML v1.0//EN
CALSCALE:GREGORIAN
METHOD:PUBLISH
X-WR-CALNAME:The Nature Foundation at Wintergreen
X-ORIGINAL-URL:https://tnfw.org
X-WR-CALDESC:Events for The Nature Foundation at Wintergreen
REFRESH-INTERVAL;VALUE=DURATION:PT1H
X-Robots-Tag:noindex
X-PUBLISHED-TTL:PT1H
BEGIN:VTIMEZONE
TZID:America/New_York
BEGIN:DAYLIGHT
TZOFFSETFROM:-0500
TZOFFSETTO:-0400
TZNAME:EDT
DTSTART:20240310T070000
END:DAYLIGHT
BEGIN:STANDARD
TZOFFSETFROM:-0400
TZOFFSETTO:-0500
TZNAME:EST
DTSTART:20241103T060000
END:STANDARD
BEGIN:DAYLIGHT
TZOFFSETFROM:-0500
TZOFFSETTO:-0400
TZNAME:EDT
DTSTART:20250309T070000
END:DAYLIGHT
BEGIN:STANDARD
TZOFFSETFROM:-0400
TZOFFSETTO:-0500
TZNAME:EST
DTSTART:20251102T060000
END:STANDARD
BEGIN:DAYLIGHT
TZOFFSETFROM:-0500
TZOFFSETTO:-0400
TZNAME:EDT
DTSTART:20260308T070000
END:DAYLIGHT
BEGIN:STANDARD
TZOFFSETFROM:-0400
TZOFFSETTO:-0500
TZNAME:EST
DTSTART:20261101T060000
END:STANDARD
END:VTIMEZONE
BEGIN:VEVENT
DTSTART;TZID=America/New_York:20250808T130000
DTEND;TZID=America/New_York:20250808T143000
DTSTAMP:20260421T094241
CREATED:20250525T173316Z
LAST-MODIFIED:20250806T153419Z
UID:10000152-1754658000-1754663400@tnfw.org
SUMMARY:Summer Intern Showcase: Stories from the Field - August 8\, 2025
DESCRIPTION:This summer\, three outstanding interns have immersed themselves in the wild beauty of Wintergreen—contributing their scientific skills\, fresh perspectives\, and a whole lot of sweat to support TNFW’s mission. Now it’s time to hear their stories! Join our Education\, Propagation\, and Forestry interns as they share highlights from their time in the field\, from native plant work to trail stewardship and environmental education. It’s a behind-the-scenes look at the impact of young conservationists in action. This is a Free event with refreshments. Registration requested.
URL:https://tnfw.org/event/summer-intern-showcase-stories-from-the-field-august-8-2025/
LOCATION:The Nature Foundation at Wintergreen\, 3421 Wintergreen Dr\, Roseland\, VA\, 22967\, United States
CATEGORIES:Lecture,Presentation
ATTACH;FMTTYPE=image/jpeg:https://tnfw.org/wp-content/uploads/2025/05/interns-e1754494432694.jpg
END:VEVENT
BEGIN:VEVENT
DTSTART;TZID=America/New_York:20250809T100000
DTEND;TZID=America/New_York:20250809T120000
DTSTAMP:20260421T094241
CREATED:20250525T193029Z
LAST-MODIFIED:20250808T184904Z
UID:10000146-1754733600-1754740800@tnfw.org
SUMMARY:Living with Nature at Wintergreen - August 9\, 2025
DESCRIPTION:Join a Foundation Naturalist for an interpretive hike and explore Wintergreen’s natural environment! These hikes are rated moderate to strenuous. Meet at Trillium House parking lot. Payment is due at the time of registration. FREE/Member\, $8/Non-Member.
URL:https://tnfw.org/event/living-with-nature-at-wintergreen-august-2-2025/
LOCATION:The Nature Foundation at Wintergreen\, 3421 Wintergreen Dr\, Roseland\, VA\, 22967\, United States
CATEGORIES:Hikes,Living with Nature at Wintergreen Hike
ATTACH;FMTTYPE=image/jpeg:https://tnfw.org/wp-content/uploads/2025/05/john-and-abigail3.jpg
END:VEVENT
BEGIN:VEVENT
DTSTART;TZID=America/New_York:20250816T100000
DTEND;TZID=America/New_York:20250816T120000
DTSTAMP:20260421T094241
CREATED:20250525T195501Z
LAST-MODIFIED:20250814T130438Z
UID:10000148-1755338400-1755345600@tnfw.org
SUMMARY:Living with Nature at Wintergreen - August 16\, 2025
DESCRIPTION:Join a Foundation Naturalist\, Tony Slotwinski for an interpretive hike and explore Wintergreen’s natural environment! These hikes are rated moderate to strenuous. Meet at Trillium House parking lot. Payment is due at the time of registration. FREE/Member\, $8/Non-Member.
URL:https://tnfw.org/event/living-with-nature-at-wintergreen-august-16-2025/
LOCATION:The Nature Foundation at Wintergreen\, 3421 Wintergreen Dr\, Roseland\, VA\, 22967\, United States
CATEGORIES:Hikes,Living with Nature at Wintergreen Hike
ATTACH;FMTTYPE=image/jpeg:https://tnfw.org/wp-content/uploads/2025/05/Tony-S.jpg
END:VEVENT
BEGIN:VEVENT
DTSTART;TZID=America/New_York:20250816T130000
DTEND;TZID=America/New_York:20250816T160000
DTSTAMP:20260421T094241
CREATED:20250525T163109Z
LAST-MODIFIED:20250624T143827Z
UID:10000151-1755349200-1755360000@tnfw.org
SUMMARY:No More Dog Ears! Watercolor Bookmarks Workshop- Saturday\, August 16\, 2025
DESCRIPTION:Please do not mark your books with dog ears or keep your place with scraps of paper. As a participant aged 12 and over with some experience in watercolor\, you can create your own unique bookmarks! In the pursuit of fun in art\, Carolyn Velletri will lead participants in creating four themed watercolor bookmarks – clouds\, leaves\, mountains or you can take off on your own adventure! Do something different – embrace the process with fellow artistic companions as we learn\, enjoy\, and laugh together. Supplies for making four finished 2” by 6” bookmarks will be provided for use during the workshop. However\, feel free to bring your own watercolor brushes and supplies. Payment is due at the time of registration.
URL:https://tnfw.org/event/no-more-dog-ears-watercolor-bookmarks-workshop-saturday-august-16-2025/
LOCATION:The Nature Foundation at Wintergreen\, 3421 Wintergreen Dr\, Roseland\, VA\, 22967\, United States
ATTACH;FMTTYPE=image/jpeg:https://tnfw.org/wp-content/uploads/2025/05/delete-scaled-e1750775883772.jpg
END:VEVENT
BEGIN:VEVENT
DTSTART;TZID=America/New_York:20250820T090000
DTEND;TZID=America/New_York:20250820T120000
DTSTAMP:20260421T094241
CREATED:20250525T175039Z
LAST-MODIFIED:20250523T175447Z
UID:10000153-1755680400-1755691200@tnfw.org
SUMMARY:A Piece of Wintergreen’s Past: The Copper Mines- Aug 20\, 2025
DESCRIPTION:Join Josh Palumbo on a climb into Wintergreen’s past with a trip to the copper mines. This unique spot on the very steep east slope of Crawford’s Knob was an active mine in the late 1890’s before being quickly abandoned. Not only are the mines unique but its location is also fascinating\, located in a lovely depression along a creek bed acting as home to a variety of wildlife including deer\, turkey and\, of course\, bats. This is a trip every Wintergreen resident must put on their “bucket list”. Difficult. Bring a flashlight\, lunch and plenty of water. Payment is due at the time of registration.
URL:https://tnfw.org/event/a-piece-of-wintergreens-past-the-copper-mines-aug-20-2025/
LOCATION:The Nature Foundation at Wintergreen\, 3421 Wintergreen Dr\, Roseland\, VA\, 22967\, United States
CATEGORIES:Hikes
ATTACH;FMTTYPE=image/jpeg:https://tnfw.org/wp-content/uploads/2025/05/coppermine.jpg
END:VEVENT
BEGIN:VEVENT
DTSTART;TZID=America/New_York:20250823T100000
DTEND;TZID=America/New_York:20250823T120000
DTSTAMP:20260421T094241
CREATED:20250525T200128Z
LAST-MODIFIED:20250523T171104Z
UID:10000149-1755943200-1755950400@tnfw.org
SUMMARY:Living with Nature at Wintergreen - August  23\, 2025
DESCRIPTION:Join a Foundation Naturalist for an interpretive hike and explore Wintergreen’s natural environment! These hikes are rated moderate to strenuous. Meet at Trillium House parking lot. Payment is due at the time of registration. FREE/Member\, $8/Non-Member.
URL:https://tnfw.org/event/living-with-nature-at-wintergreen-august-23-2025/
LOCATION:The Nature Foundation at Wintergreen\, 3421 Wintergreen Dr\, Roseland\, VA\, 22967\, United States
CATEGORIES:Hikes,Living with Nature at Wintergreen Hike
ATTACH;FMTTYPE=image/jpeg:https://tnfw.org/wp-content/uploads/2025/01/DSC_0017.jpg
END:VEVENT
BEGIN:VEVENT
DTSTART;TZID=America/New_York:20250830T090000
DTEND;TZID=America/New_York:20250830T130000
DTSTAMP:20260421T094241
CREATED:20250826T172050Z
LAST-MODIFIED:20250826T172050Z
UID:10000164-1756544400-1756558800@tnfw.org
SUMMARY:Plant Sale - August 30\, 2025
DESCRIPTION:Last Plant Sale of the Season- October 4\, 9am- 1pm\nTNFW’s native plant sale will be held at the greenhouse at 725 Beech Grove Rd\, Roseland\, VA 22967. There will be members of the Plant Propagation committee on hand to answer questions.
URL:https://tnfw.org/event/plant-sale-august-30-2025/
CATEGORIES:Sale
ATTACH;FMTTYPE=image/jpeg:https://tnfw.org/wp-content/uploads/2025/08/BF-garden-1.jpg
END:VEVENT
BEGIN:VEVENT
DTSTART;TZID=America/New_York:20250830T100000
DTEND;TZID=America/New_York:20250830T120000
DTSTAMP:20260421T094241
CREATED:20250525T200906Z
LAST-MODIFIED:20250826T170622Z
UID:10000150-1756548000-1756555200@tnfw.org
SUMMARY:Living with Nature at Wintergreen - August 30\, 2025
DESCRIPTION:Join our newest volunteer Foundation Naturalist\, Julie Gough for an interpretive hike and explore Wintergreen’s natural environment! These hikes are rated moderate to strenuous. Meet at Trillium House parking lot. Payment is due at the time of registration. FREE/Member\, $8/Non-Member.
URL:https://tnfw.org/event/living-with-nature-at-wintergreen-august-30-2025/
LOCATION:The Nature Foundation at Wintergreen\, 3421 Wintergreen Dr\, Roseland\, VA\, 22967\, United States
CATEGORIES:Hikes,Living with Nature at Wintergreen Hike
ATTACH;FMTTYPE=image/jpeg:https://tnfw.org/wp-content/uploads/2025/05/julie-G.jpg
END:VEVENT
END:VCALENDAR