BEGIN:VCALENDAR
VERSION:2.0
PRODID:-//The Nature Foundation at Wintergreen - ECPv6.15.14//NONSGML v1.0//EN
CALSCALE:GREGORIAN
METHOD:PUBLISH
X-WR-CALNAME:The Nature Foundation at Wintergreen
X-ORIGINAL-URL:https://tnfw.org
X-WR-CALDESC:Events for The Nature Foundation at Wintergreen
REFRESH-INTERVAL;VALUE=DURATION:PT1H
X-Robots-Tag:noindex
X-PUBLISHED-TTL:PT1H
BEGIN:VTIMEZONE
TZID:America/New_York
BEGIN:DAYLIGHT
TZOFFSETFROM:-0500
TZOFFSETTO:-0400
TZNAME:EDT
DTSTART:20230312T070000
END:DAYLIGHT
BEGIN:STANDARD
TZOFFSETFROM:-0400
TZOFFSETTO:-0500
TZNAME:EST
DTSTART:20231105T060000
END:STANDARD
BEGIN:DAYLIGHT
TZOFFSETFROM:-0500
TZOFFSETTO:-0400
TZNAME:EDT
DTSTART:20240310T070000
END:DAYLIGHT
BEGIN:STANDARD
TZOFFSETFROM:-0400
TZOFFSETTO:-0500
TZNAME:EST
DTSTART:20241103T060000
END:STANDARD
BEGIN:DAYLIGHT
TZOFFSETFROM:-0500
TZOFFSETTO:-0400
TZNAME:EDT
DTSTART:20250309T070000
END:DAYLIGHT
BEGIN:STANDARD
TZOFFSETFROM:-0400
TZOFFSETTO:-0500
TZNAME:EST
DTSTART:20251102T060000
END:STANDARD
END:VTIMEZONE
BEGIN:VEVENT
DTSTART;TZID=America/New_York:20241102T100000
DTEND;TZID=America/New_York:20241102T120000
DTSTAMP:20260421T214731
CREATED:20240903T162345Z
LAST-MODIFIED:20240903T162345Z
UID:10000065-1730541600-1730548800@tnfw.org
SUMMARY:Living with Nature at Wintergreen Hikes- November 2\, 2024
DESCRIPTION:Join a Foundation Naturalist for an interpretive hike and explore Wintergreen’s natural environment!  These hikes are rated moderate. Meet at Trillium House. Payment due before event.
URL:https://tnfw.org/event/living-with-nature-at-wintergreen-hikes-november-2-2024/
LOCATION:The Nature Foundation at Wintergreen\, 3421 Wintergreen Dr\, Roseland\, VA\, 22967\, United States
CATEGORIES:Hikes,Living with Nature at Wintergreen Hike
ATTACH;FMTTYPE=image/jpeg:https://tnfw.org/wp-content/uploads/2024/08/WGR-Fall-Hiking-JPEG_sm.jpg
ORGANIZER;CN="Kathie @ The Nature Foundation":MAILTO:youth@tnfw.org
END:VEVENT
BEGIN:VEVENT
DTSTART;TZID=America/New_York:20241102T130000
DTEND;TZID=America/New_York:20241102T143000
DTSTAMP:20260421T214731
CREATED:20240824T201021Z
LAST-MODIFIED:20241024T131407Z
UID:10000064-1730552400-1730557800@tnfw.org
SUMMARY:Black Bear 101- November 2\, 2024
DESCRIPTION:Want to know what to do if you see a bear in your yard? Department of Wildlife Resources’ (DWR) Black Bear Project Leader Carl Tugend will share advice on bear biology\, behavior\, management\, and how to reduce human-bear conflicts. This talk is not to be missed.
URL:https://tnfw.org/event/black-bear-101-november-2-2024/
LOCATION:The Nature Foundation at Wintergreen\, 3421 Wintergreen Dr\, Roseland\, VA\, 22967\, United States
CATEGORIES:Lecture,Presentation
ATTACH;FMTTYPE=image/jpeg:https://tnfw.org/wp-content/uploads/2024/08/IMG_1101-rotated.jpg
ORGANIZER;CN="Kathie @ The Nature Foundation":MAILTO:youth@tnfw.org
END:VEVENT
BEGIN:VEVENT
DTSTART;TZID=America/New_York:20241107T133000
DTEND;TZID=America/New_York:20241107T153000
DTSTAMP:20260421T214731
CREATED:20240924T194630Z
LAST-MODIFIED:20241025T164538Z
UID:10000084-1730986200-1730993400@tnfw.org
SUMMARY:Community Walk- November 7\, 2024
DESCRIPTION:Let the vibrant fall foliage inspire us for a brisk walk under the forest canopy. A wide array of colors should outline the trail ahead of us. Emily Ferguson\, a Virginia Master Naturalist and Tree Steward\, will lead you out and back while answering any of your natural history questions long the way. We will meet in the parking lot at Stoney Creek Park off of Stoney Creek West. Wear appropriate shoes and gear. This hike is rated moderate. Please register in advance.
URL:https://tnfw.org/event/community-walk-november-7-2024-2/
CATEGORIES:Community Walk,Hikes
ATTACH;FMTTYPE=image/jpeg:https://tnfw.org/wp-content/uploads/2024/09/fall-colors.jpg
END:VEVENT
BEGIN:VEVENT
DTSTART;TZID=America/New_York:20241108T103000
DTEND;TZID=America/New_York:20241108T170000
DTSTAMP:20260421T214731
CREATED:20240924T195004Z
LAST-MODIFIED:20241107T160135Z
UID:10000085-1731061800-1731085200@tnfw.org
SUMMARY:Canceled Mineral Museum Tour- Friday\, November 8\, 2024
DESCRIPTION:JMU’s hidden gem\, the Mineral Museum tucked away in the Festival Conference and Student Center\, houses magnificent mineral specimens from 39 countries and 24 U.S. states. After lunch at JMU’s famed Festival Food Court\, Dr. Eric Pyle\, Geologist and Museum Curator will lead us on a tour of the history of the museum and its fabulous collection. Bring money for lunch. Payment due before event.
URL:https://tnfw.org/event/james-madison-university-mineral-museum-tour-friday-november-8-2024/
CATEGORIES:Tour
ATTACH;FMTTYPE=image/jpeg:https://tnfw.org/wp-content/uploads/2024/09/Amythyst-Quartz-e1636470900641.jpg
END:VEVENT
BEGIN:VEVENT
DTSTART;TZID=America/New_York:20241109T100000
DTEND;TZID=America/New_York:20241109T120000
DTSTAMP:20260421T214731
CREATED:20240903T163142Z
LAST-MODIFIED:20240903T163142Z
UID:10000066-1731146400-1731153600@tnfw.org
SUMMARY:Living with Nature at Wintergreen Hikes- November 9\, 2024
DESCRIPTION:Join a Foundation Naturalist for an interpretive hike and explore Wintergreen’s natural environment!  These hikes are rated moderate. Meet at Trillium House. Payment due before event.
URL:https://tnfw.org/event/living-with-nature-at-wintergreen-hikes-november-9-2024/
LOCATION:The Nature Foundation at Wintergreen\, 3421 Wintergreen Dr\, Roseland\, VA\, 22967\, United States
CATEGORIES:Hikes,Living with Nature at Wintergreen Hike
ATTACH;FMTTYPE=image/jpeg:https://tnfw.org/wp-content/uploads/2024/09/hiking-fall.jpg
ORGANIZER;CN="Kathie @ The Nature Foundation":MAILTO:youth@tnfw.org
END:VEVENT
BEGIN:VEVENT
DTSTART;TZID=America/New_York:20241116T100000
DTEND;TZID=America/New_York:20241116T120000
DTSTAMP:20260421T214731
CREATED:20240903T163828Z
LAST-MODIFIED:20240903T164010Z
UID:10000067-1731751200-1731758400@tnfw.org
SUMMARY:Living with Nature at Wintergreen Hikes- November 16\, 2024
DESCRIPTION:Join a Foundation Naturalist for an interpretive hike and explore Wintergreen’s natural environment!  These hikes are rated moderate. Meet at Trillium House. Payment due before event.
URL:https://tnfw.org/event/living-with-nature-at-wintergreen-hikes-november-16-2024/
LOCATION:The Nature Foundation at Wintergreen\, 3421 Wintergreen Dr\, Roseland\, VA\, 22967\, United States
CATEGORIES:Hikes,Living with Nature at Wintergreen Hike
ATTACH;FMTTYPE=image/jpeg:https://tnfw.org/wp-content/uploads/2024/09/fall-in-nature-preserve-e1725381477785.jpg
ORGANIZER;CN="Kathie @ The Nature Foundation":MAILTO:youth@tnfw.org
END:VEVENT
BEGIN:VEVENT
DTSTART;TZID=America/New_York:20241120T090000
DTEND;TZID=America/New_York:20241120T120000
DTSTAMP:20260421T214731
CREATED:20240924T195329Z
LAST-MODIFIED:20240924T195329Z
UID:10000086-1732093200-1732104000@tnfw.org
SUMMARY:Salamander Search- November 20\, 2024
DESCRIPTION:Join TNFW staff member Josh Palumbo on a search for the many salamanders that call Wintergreen home. This easy hike will journey to the wet abodes these elusive creatures reside. The cool\, fall season is an ideal time to search for our slippery friends. The hike is rated moderate. Make sure to dress for any weather conditions. Payment is due at time of registration.
URL:https://tnfw.org/event/salamander-search-november-20-2024-2/
CATEGORIES:Family Fun,Hike,Kids Activity
ATTACH;FMTTYPE=image/jpeg:https://tnfw.org/wp-content/uploads/2024/09/dusky.jpg
END:VEVENT
BEGIN:VEVENT
DTSTART;TZID=America/New_York:20241123T100000
DTEND;TZID=America/New_York:20241123T120000
DTSTAMP:20260421T214731
CREATED:20240903T164425Z
LAST-MODIFIED:20241122T215959Z
UID:10000068-1732356000-1732363200@tnfw.org
SUMMARY:Canceled! Living with nature at Wintergreen Hikes- November 23\, 2024
DESCRIPTION:Join a Foundation Naturalist for an interpretive hike and explore Wintergreen’s natural environment!  These hikes are rated moderate. Meet at Trillium House. Payment due before event.
URL:https://tnfw.org/event/living-with-nature-at-wintergreen-hikes-november-23-2024/
LOCATION:The Nature Foundation at Wintergreen\, 3421 Wintergreen Dr\, Roseland\, VA\, 22967\, United States
CATEGORIES:Hikes,Living with Nature at Wintergreen Hike
ATTACH;FMTTYPE=image/jpeg:https://tnfw.org/wp-content/uploads/2024/09/snow-winter.jpg
ORGANIZER;CN="Kathie @ The Nature Foundation":MAILTO:youth@tnfw.org
END:VEVENT
BEGIN:VEVENT
DTSTART;TZID=America/New_York:20241130T100000
DTEND;TZID=America/New_York:20241130T120000
DTSTAMP:20260421T214731
CREATED:20240903T164709Z
LAST-MODIFIED:20240903T164709Z
UID:10000069-1732960800-1732968000@tnfw.org
SUMMARY:Living with Nature at Wintergreen Hikes- November 30\, 2024
DESCRIPTION:Join a Foundation Naturalist for an interpretive hike and explore Wintergreen’s natural environment!  These hikes are rated moderate. Meet at Trillium House. Payment due before event.
URL:https://tnfw.org/event/living-with-nature-at-wintergreen-hikes-november-30-2024/
LOCATION:The Nature Foundation at Wintergreen\, 3421 Wintergreen Dr\, Roseland\, VA\, 22967\, United States
CATEGORIES:Hikes,Living with Nature at Wintergreen Hike
ATTACH;FMTTYPE=image/jpeg:https://tnfw.org/wp-content/uploads/2024/09/snow-winter.jpg
ORGANIZER;CN="Kathie @ The Nature Foundation":MAILTO:youth@tnfw.org
END:VEVENT
END:VCALENDAR