BEGIN:VCALENDAR
VERSION:2.0
PRODID:-//The Nature Foundation at Wintergreen - ECPv6.15.14//NONSGML v1.0//EN
CALSCALE:GREGORIAN
METHOD:PUBLISH
X-WR-CALNAME:The Nature Foundation at Wintergreen
X-ORIGINAL-URL:https://tnfw.org
X-WR-CALDESC:Events for The Nature Foundation at Wintergreen
REFRESH-INTERVAL;VALUE=DURATION:PT1H
X-Robots-Tag:noindex
X-PUBLISHED-TTL:PT1H
BEGIN:VTIMEZONE
TZID:America/New_York
BEGIN:DAYLIGHT
TZOFFSETFROM:-0500
TZOFFSETTO:-0400
TZNAME:EDT
DTSTART:20250309T070000
END:DAYLIGHT
BEGIN:STANDARD
TZOFFSETFROM:-0400
TZOFFSETTO:-0500
TZNAME:EST
DTSTART:20251102T060000
END:STANDARD
BEGIN:DAYLIGHT
TZOFFSETFROM:-0500
TZOFFSETTO:-0400
TZNAME:EDT
DTSTART:20260308T070000
END:DAYLIGHT
BEGIN:STANDARD
TZOFFSETFROM:-0400
TZOFFSETTO:-0500
TZNAME:EST
DTSTART:20261101T060000
END:STANDARD
BEGIN:DAYLIGHT
TZOFFSETFROM:-0500
TZOFFSETTO:-0400
TZNAME:EDT
DTSTART:20270314T070000
END:DAYLIGHT
BEGIN:STANDARD
TZOFFSETFROM:-0400
TZOFFSETTO:-0500
TZNAME:EST
DTSTART:20271107T060000
END:STANDARD
END:VTIMEZONE
BEGIN:VEVENT
DTSTART;TZID=America/New_York:20260425T100000
DTEND;TZID=America/New_York:20260425T120000
DTSTAMP:20260420T030925
CREATED:20260228T215138Z
LAST-MODIFIED:20260225T165624Z
UID:10000199-1777111200-1777118400@tnfw.org
SUMMARY:Living with Nature at Wintergreen Hike- April 25\, 2026
DESCRIPTION:Join a Foundation Naturalist for an interpretive hike and explore Wintergreen’s natural environment! These hikes are rated moderate to strenuous. Meet at Trillium House. Payment due before event.
URL:https://tnfw.org/event/living-with-nature-at-wintergreen-hike-april-25-2026/
LOCATION:The Nature Foundation at Wintergreen\, 3421 Wintergreen Dr\, Roseland\, VA\, 22967\, United States
CATEGORIES:Hikes,Living with Nature at Wintergreen Hike
ATTACH;FMTTYPE=image/jpeg:https://tnfw.org/wp-content/uploads/2025/02/yellow-slipper.jpg
END:VEVENT
BEGIN:VEVENT
DTSTART;TZID=America/New_York:20260425T100000
DTEND;TZID=America/New_York:20260425T150000
DTSTAMP:20260420T030925
CREATED:20260225T194223Z
LAST-MODIFIED:20260404T182146Z
UID:10000212-1777111200-1777129200@tnfw.org
SUMMARY:Walk to the Wreckage- April 25\, 2026
DESCRIPTION:Back by popular demand! Join Rich Velletri for a hike to the wreckage of an old military aircraft that crashed in the early 1960s and learn details of the fateful flight. This six mile round trip hike is rated as difficult and over mountainous rocky terrain but features nice views. The route to the crash site will be along the Appalachian Trail and requires bushwhacking. Dress for all weather conditions\, bring food and water. Payment is due at time of registration. \n 
URL:https://tnfw.org/event/walk-to-the-wreckage-april-25-2026/
LOCATION:VA
CATEGORIES:Hikes
ATTACH;FMTTYPE=image/jpeg:https://tnfw.org/wp-content/uploads/2026/02/wreckage-photo-2026-scaled.jpg
END:VEVENT
BEGIN:VEVENT
DTSTART;TZID=America/New_York:20260509T100000
DTEND;TZID=America/New_York:20260509T120000
DTSTAMP:20260420T030925
CREATED:20260228T195707Z
LAST-MODIFIED:20260225T172336Z
UID:10000200-1778320800-1778328000@tnfw.org
SUMMARY:Living with Nature at Wintergreen Hike- May 9\, 2026
DESCRIPTION:Join a Foundation Naturalist for an interpretive hike and explore Wintergreen’s natural environment! These hikes are rated moderate to strenuous. Meet at Trillium House. Payment due before event.
URL:https://tnfw.org/event/living-with-nature-at-wintergreen-hike-may-9-2026/
LOCATION:The Nature Foundation at Wintergreen\, 3421 Wintergreen Dr\, Roseland\, VA\, 22967\, United States
CATEGORIES:Hikes,Living with Nature at Wintergreen Hike
ATTACH;FMTTYPE=image/jpeg:https://tnfw.org/wp-content/uploads/2025/02/allen-creek11-header.jpg
END:VEVENT
BEGIN:VEVENT
DTSTART;TZID=America/New_York:20260516T100000
DTEND;TZID=America/New_York:20260516T120000
DTSTAMP:20260420T030925
CREATED:20260228T192508Z
LAST-MODIFIED:20260225T173245Z
UID:10000201-1778925600-1778932800@tnfw.org
SUMMARY:Living with Nature at Wintergreen Hike- May 16\, 2026
DESCRIPTION:Join a Foundation Naturalist for an interpretive hike and explore Wintergreen’s natural environment! These hikes are rated moderate to strenuous. Meet at Trillium House. Payment due before event.
URL:https://tnfw.org/event/living-with-nature-at-wintergreen-hike-may-16-2026/
LOCATION:The Nature Foundation at Wintergreen\, 3421 Wintergreen Dr\, Roseland\, VA\, 22967\, United States
CATEGORIES:Hikes,Living with Nature at Wintergreen Hike
ATTACH;FMTTYPE=image/jpeg:https://tnfw.org/wp-content/uploads/2026/02/DSC_4989-scaled.jpg
END:VEVENT
BEGIN:VEVENT
DTSTART;TZID=America/New_York:20260523T100000
DTEND;TZID=America/New_York:20260523T120000
DTSTAMP:20260420T030925
CREATED:20260228T213301Z
LAST-MODIFIED:20260225T174341Z
UID:10000202-1779530400-1779537600@tnfw.org
SUMMARY:Living with Nature at Wintergreen Hike- May 23\, 2026
DESCRIPTION:Join a Foundation Naturalist for an interpretive hike and explore Wintergreen’s natural environment! These hikes are rated moderate to strenuous. Meet at Trillium House. Payment due before event.
URL:https://tnfw.org/event/living-with-nature-at-wintergreen-hike-may-23-2026/
LOCATION:The Nature Foundation at Wintergreen\, 3421 Wintergreen Dr\, Roseland\, VA\, 22967\, United States
CATEGORIES:Hikes,Living with Nature at Wintergreen Hike
ATTACH;FMTTYPE=image/jpeg:https://tnfw.org/wp-content/uploads/2023/04/zack-silver-5XiJQIvs6AY-unsplash-small.jpg
END:VEVENT
BEGIN:VEVENT
DTSTART;TZID=America/New_York:20260530T100000
DTEND;TZID=America/New_York:20260530T120000
DTSTAMP:20260420T030925
CREATED:20260228T213555Z
LAST-MODIFIED:20260225T183958Z
UID:10000208-1780135200-1780142400@tnfw.org
SUMMARY:Living with Nature at Wintergreen- May 30\, 2026
DESCRIPTION:Join a Foundation Naturalist for an interpretive hike and explore Wintergreen’s natural environment! These hikes are rated moderate to strenuous. Meet at Trillium House. Payment due before event.
URL:https://tnfw.org/event/living-with-nature-at-wintergreen-may-30-2026/
LOCATION:The Nature Foundation at Wintergreen\, 3421 Wintergreen Dr\, Roseland\, VA\, 22967\, United States
CATEGORIES:Hikes,Living with Nature at Wintergreen Hike
ATTACH;FMTTYPE=image/jpeg:https://tnfw.org/wp-content/uploads/2026/02/SpringFlowers.jpg
END:VEVENT
BEGIN:VEVENT
DTSTART;TZID=America/New_York:20260613T100000
DTEND;TZID=America/New_York:20260613T120000
DTSTAMP:20260420T030925
CREATED:20260228T195542Z
LAST-MODIFIED:20260225T180515Z
UID:10000203-1781344800-1781352000@tnfw.org
SUMMARY:Living with Nature at Wintergreen- June 13\, 2026
DESCRIPTION:Join a Foundation Naturalist for an interpretive hike and explore Wintergreen’s natural environment! These hikes are rated moderate to strenuous. Meet at Trillium House. Payment due before event.
URL:https://tnfw.org/event/living-with-nature-at-wintergreen-june-13-2026/
LOCATION:The Nature Foundation at Wintergreen\, 3421 Wintergreen Dr\, Roseland\, VA\, 22967\, United States
CATEGORIES:Hikes,Living with Nature at Wintergreen Hike
ATTACH;FMTTYPE=image/jpeg:https://tnfw.org/wp-content/uploads/2025/02/rhododendon-trail-scaled.jpg
END:VEVENT
BEGIN:VEVENT
DTSTART;TZID=America/New_York:20260620T100000
DTEND;TZID=America/New_York:20260620T120000
DTSTAMP:20260420T030925
CREATED:20260228T220531Z
LAST-MODIFIED:20260225T181010Z
UID:10000204-1781949600-1781956800@tnfw.org
SUMMARY:Living with Nature at Wintergreen- June 20\, 2026
DESCRIPTION:Join a Foundation Naturalist for an interpretive hike and explore Wintergreen’s natural environment! These hikes are rated moderate to strenuous. Meet at Trillium House. Payment due before event.
URL:https://tnfw.org/event/living-with-nature-at-wintergreen-june-20-2026/
LOCATION:The Nature Foundation at Wintergreen\, 3421 Wintergreen Dr\, Roseland\, VA\, 22967\, United States
CATEGORIES:Hikes,Living with Nature at Wintergreen Hike
ATTACH;FMTTYPE=image/jpeg:https://tnfw.org/wp-content/uploads/2025/02/hike-summer.jpg
END:VEVENT
END:VCALENDAR