BEGIN:VCALENDAR
VERSION:2.0
PRODID:-//The Nature Foundation at Wintergreen - ECPv6.15.14//NONSGML v1.0//EN
CALSCALE:GREGORIAN
METHOD:PUBLISH
X-ORIGINAL-URL:https://tnfw.org
X-WR-CALDESC:Events for The Nature Foundation at Wintergreen
REFRESH-INTERVAL;VALUE=DURATION:PT1H
X-Robots-Tag:noindex
X-PUBLISHED-TTL:PT1H
BEGIN:VTIMEZONE
TZID:America/New_York
BEGIN:DAYLIGHT
TZOFFSETFROM:-0500
TZOFFSETTO:-0400
TZNAME:EDT
DTSTART:20240310T070000
END:DAYLIGHT
BEGIN:STANDARD
TZOFFSETFROM:-0400
TZOFFSETTO:-0500
TZNAME:EST
DTSTART:20241103T060000
END:STANDARD
BEGIN:DAYLIGHT
TZOFFSETFROM:-0500
TZOFFSETTO:-0400
TZNAME:EDT
DTSTART:20250309T070000
END:DAYLIGHT
BEGIN:STANDARD
TZOFFSETFROM:-0400
TZOFFSETTO:-0500
TZNAME:EST
DTSTART:20251102T060000
END:STANDARD
BEGIN:DAYLIGHT
TZOFFSETFROM:-0500
TZOFFSETTO:-0400
TZNAME:EDT
DTSTART:20260308T070000
END:DAYLIGHT
BEGIN:STANDARD
TZOFFSETFROM:-0400
TZOFFSETTO:-0500
TZNAME:EST
DTSTART:20261101T060000
END:STANDARD
BEGIN:DAYLIGHT
TZOFFSETFROM:-0500
TZOFFSETTO:-0400
TZNAME:EDT
DTSTART:20270314T070000
END:DAYLIGHT
BEGIN:STANDARD
TZOFFSETFROM:-0400
TZOFFSETTO:-0500
TZNAME:EST
DTSTART:20271107T060000
END:STANDARD
END:VTIMEZONE
BEGIN:VEVENT
DTSTART;TZID=America/New_York:20260418T100000
DTEND;TZID=America/New_York:20260418T120000
DTSTAMP:20260422T045329
CREATED:20260228T094435Z
LAST-MODIFIED:20260225T165125Z
UID:10000198-1776506400-1776513600@tnfw.org
SUMMARY:Living with Nature at Wintergreen Hike- April 18\, 2026
DESCRIPTION:Join a Foundation Naturalist for an interpretive hike and explore Wintergreen’s natural environment! These hikes are rated moderate to strenuous. Meet at Trillium House. Payment due before event.
URL:https://tnfw.org/event/living-with-nature-at-wintergreen-hike-april-18-2026/
LOCATION:The Nature Foundation at Wintergreen\, 3421 Wintergreen Dr\, Roseland\, VA\, 22967\, United States
CATEGORIES:Hikes,Living with Nature at Wintergreen Hike
ATTACH;FMTTYPE=image/jpeg:https://tnfw.org/wp-content/uploads/2025/02/trillium.jpg
END:VEVENT
BEGIN:VEVENT
DTSTART;TZID=America/New_York:20260415T090000
DTEND;TZID=America/New_York:20260415T160000
DTSTAMP:20260422T045329
CREATED:20260225T193202Z
LAST-MODIFIED:20260327T163330Z
UID:10000211-1776243600-1776268800@tnfw.org
SUMMARY:Trek to the Wreck and Beyond!   April 15\, 2026
DESCRIPTION:Join Josh Palumbo as we hike to an old plane wreckage and bushwhack into the Crawford’s Knob backcountry. The route to the crash site along the Appalachian Trail will offer great views of Wintergreen and the Rockfish Valley. From the wreck\, we will venture into the “beyond\,” following the contours of Humpback Mountain down to Crawford’s Knob.  The group will bushwhack down to wetlands\, up to vistas and finish up in Stoney Creek. This hike is rated as difficult. Dress for all weather conditions and bring plenty of food and water. Payment is due at time of registration. \n 
URL:https://tnfw.org/event/trek-to-the-wreck-and-beyond-april-15-2026/
LOCATION:VA
CATEGORIES:Hikes
ATTACH;FMTTYPE=image/jpeg:https://tnfw.org/wp-content/uploads/2025/02/plane-wreck.jpeg
END:VEVENT
BEGIN:VEVENT
DTSTART;TZID=America/New_York:20260413T130000
DTEND;TZID=America/New_York:20260413T150000
DTSTAMP:20260422T045329
CREATED:20260225T192236Z
LAST-MODIFIED:20260225T192236Z
UID:10000210-1776085200-1776092400@tnfw.org
SUMMARY:Community Walk - April 13\, 2026
DESCRIPTION:Let’s check out what has sprung this spring! While locating different plants\, we will keep our eyes peeled for insects\, amphibians\, birds\, and other small wildlife using vegetation as cover.  Join Emily Ferguson\, a volunteer for The Nature Foundation at Wintergreen\, for a walk of the Stoney Creek Park trail. We will meet in the parking lot at Stoney Creek Park on Stoney Creek West. Wear appropriate shoes and gear.This hike is rated easy-moderate. Please register in advance. FREE. \n 
URL:https://tnfw.org/event/community-walk-april-13-2026/
LOCATION:VA
CATEGORIES:Community Walk
ATTACH;FMTTYPE=image/jpeg:https://tnfw.org/wp-content/uploads/2026/01/sapsucker.jpg
END:VEVENT
BEGIN:VEVENT
DTSTART;TZID=America/New_York:20260325T090000
DTEND;TZID=America/New_York:20260325T160000
DTSTAMP:20260422T045329
CREATED:20251130T170025Z
LAST-MODIFIED:20251130T003829Z
UID:10000186-1774429200-1774454400@tnfw.org
SUMMARY:Journey to High Places - March 25\, 2026
DESCRIPTION:Join Kathie Driscoll for a challenging yet rewarding hike along the Appalachian Trail at Long Mountain (Route 60). This strenuous 8-mile out-and-back hike follows scenic Brown Mountain Creek\, where you’ll experience the beauty of early spring ephemerals\, the pristine mountain stream\, and the historic remnants of the Brown Mountain community. Bring plenty of water\, lunch and snack.
URL:https://tnfw.org/event/journey-to-high-places-march-25-2025/
LOCATION:The Nature Foundation at Wintergreen\, 3421 Wintergreen Dr\, Roseland\, VA\, 22967\, United States
CATEGORIES:Hike,Hikes
ATTACH;FMTTYPE=image/jpeg:https://tnfw.org/wp-content/uploads/2025/11/Brown-Mountain-Creek-Sign-1.jpg
END:VEVENT
BEGIN:VEVENT
DTSTART;TZID=America/New_York:20260316T130000
DTEND;TZID=America/New_York:20260316T150000
DTSTAMP:20260422T045329
CREATED:20251130T170032Z
LAST-MODIFIED:20251126T163448Z
UID:10000190-1773666000-1773673200@tnfw.org
SUMMARY:Community Walk - March 16\, 2026
DESCRIPTION:Chase away those winter blues by discovering the emerging new growth of early bloomers. Join your neighbors and friends as we scan the area for new emerging vegetation. Meet Emily Ferguson\, a TNFW volunteer\, at the Allen Creek Nature Preserve trailhead near the junction of Towhee Ct and Stoney Creek East. Please wear appropriate footwear if it’s been rainy. This hike is rated moderate. Please register in advance online.
URL:https://tnfw.org/event/community-walk-march-16-2026/
LOCATION:The Nature Foundation at Wintergreen\, 3421 Wintergreen Dr\, Roseland\, VA\, 22967\, United States
CATEGORIES:Community Walk,Hikes
ATTACH;FMTTYPE=image/jpeg:https://tnfw.org/wp-content/uploads/2025/11/maxresdefault.jpg
END:VEVENT
BEGIN:VEVENT
DTSTART;TZID=America/New_York:20260314T130000
DTEND;TZID=America/New_York:20260314T150000
DTSTAMP:20260422T045329
CREATED:20251130T170043Z
LAST-MODIFIED:20260307T165801Z
UID:10000191-1773493200-1773500400@tnfw.org
SUMMARY:Living with Nature at Wintergreen - March 14\, 2026
DESCRIPTION:Join a Foundation Naturalist for an interpretive hike. Explore Wintergreen’s natural environment during the exhilarating month of March! These hikes are rated moderate. Payment is due at time of registration.
URL:https://tnfw.org/event/living-with-nature-at-wintergreen-march-14-2026/
LOCATION:The Nature Foundation at Wintergreen\, 3421 Wintergreen Dr\, Roseland\, VA\, 22967\, United States
CATEGORIES:Hikes,Living with Nature at Wintergreen Hike
ATTACH;FMTTYPE=image/jpeg:https://tnfw.org/wp-content/uploads/2024/11/valley-trail.jpg
END:VEVENT
BEGIN:VEVENT
DTSTART;TZID=America/New_York:20260216T130000
DTEND;TZID=America/New_York:20260216T150000
DTSTAMP:20260422T045329
CREATED:20251201T010532Z
LAST-MODIFIED:20260214T200804Z
UID:10000196-1771246800-1771254000@tnfw.org
SUMMARY:Canceled!Community Walk- February 16\, 2026
DESCRIPTION:The lingering chill of winter makes us long for early signs of spring. Join Emily Ferguson\, a Virginia Master Naturalist\, for a walk around Lake Monacan. Wear appropriate shoes and gear. Meet at Lake Monacan Trail at the end of Camping Ridge Ct. This hike is rated moderate. Please register in advance online.
URL:https://tnfw.org/event/33783/
LOCATION:The Nature Foundation at Wintergreen\, 3421 Wintergreen Dr\, Roseland\, VA\, 22967\, United States
CATEGORIES:Community Walk,Hikes
ATTACH;FMTTYPE=image/jpeg:https://tnfw.org/wp-content/uploads/2025/11/view-of-lake-monocan.jpg
END:VEVENT
BEGIN:VEVENT
DTSTART;TZID=America/New_York:20260214T130000
DTEND;TZID=America/New_York:20260214T150000
DTSTAMP:20260422T045329
CREATED:20251130T170022Z
LAST-MODIFIED:20260212T143626Z
UID:10000194-1771074000-1771081200@tnfw.org
SUMMARY:Canceled! Living with Nature at Wintergreen- February 14\, 2026
DESCRIPTION:Join a Foundation Naturalist for an interpretive hike. Explore Wintergreen’s natural environment during the exhilarating month of February. These hikes are rated moderate. Payment is due at time of registration.
URL:https://tnfw.org/event/living-with-nature-at-wintergreen-february-14-2026/
LOCATION:The Nature Foundation at Wintergreen\, 3421 Wintergreen Dr\, Roseland\, VA\, 22967\, United States
CATEGORIES:Hikes,Living with Nature at Wintergreen Hike
ATTACH;FMTTYPE=image/jpeg:https://tnfw.org/wp-content/uploads/2024/02/1513704008-4285-ShamokinSpring-treesignmb-700x350-1.jpg
END:VEVENT
BEGIN:VEVENT
DTSTART;TZID=America/New_York:20260117T130000
DTEND;TZID=America/New_York:20260117T150000
DTSTAMP:20260422T045329
CREATED:20251130T170058Z
LAST-MODIFIED:20251130T052022Z
UID:10000185-1768654800-1768662000@tnfw.org
SUMMARY:Living with Nature at Wintergreen- January 17\, 2026
DESCRIPTION:Join a Foundation Naturalist for an interpretive hike. Explore Wintergreen’s natural environment during the exhilarating month of January! These hikes are rated moderate. Payment is due at time of registration.
URL:https://tnfw.org/event/living-with-nature-at-wintergreen-january-17-2026/
LOCATION:The Nature Foundation at Wintergreen\, 3421 Wintergreen Dr\, Roseland\, VA\, 22967\, United States
CATEGORIES:Hikes,Living with Nature at Wintergreen Hike
ATTACH;FMTTYPE=image/jpeg:https://tnfw.org/wp-content/uploads/2023/09/winter-wintergreen.jpg
END:VEVENT
BEGIN:VEVENT
DTSTART;TZID=America/New_York:20251206T130000
DTEND;TZID=America/New_York:20251206T150000
DTSTAMP:20260422T045329
CREATED:20250826T200230Z
LAST-MODIFIED:20251205T134904Z
UID:10000180-1765026000-1765033200@tnfw.org
SUMMARY:Living With Nature at Wintergreen Hike - December 6\, 2025
DESCRIPTION:Join a Foundation Naturalist for an interpretive hike and explore Wintergreen’s natural environment! These hikes are rated moderate to strenuous. Meet at Trillium House. Payment due before event. FREE/Member\, $8/Non-Member.
URL:https://tnfw.org/event/living-with-nature-at-wintergreen-hike-december-6-2025/
LOCATION:The Nature Foundation at Wintergreen\, 3421 Wintergreen Dr\, Roseland\, VA\, 22967\, United States
CATEGORIES:Living with Nature at Wintergreen Hike
ATTACH;FMTTYPE=image/jpeg:https://tnfw.org/wp-content/uploads/2025/02/hike-summer.jpg
END:VEVENT
BEGIN:VEVENT
DTSTART;TZID=America/New_York:20251129T100000
DTEND;TZID=America/New_York:20251129T120000
DTSTAMP:20260422T045329
CREATED:20250826T193421Z
LAST-MODIFIED:20251125T203006Z
UID:10000178-1764410400-1764417600@tnfw.org
SUMMARY:Canceled! Living With Nature at Wintergreen Hike - November 29\, 2025
DESCRIPTION:Join a Foundation Naturalist for an interpretive hike and explore Wintergreen’s natural environment! These hikes are rated moderate to strenuous. Meet at Trillium House. Payment due before event. FREE/Member\, $8/Non-Member.
URL:https://tnfw.org/event/living-with-nature-at-wintergreen-hike-november-29-2025/
LOCATION:The Nature Foundation at Wintergreen\, 3421 Wintergreen Dr\, Roseland\, VA\, 22967\, United States
CATEGORIES:Living with Nature at Wintergreen Hike
ATTACH;FMTTYPE=image/jpeg:https://tnfw.org/wp-content/uploads/2025/05/dad-hike.jpg
END:VEVENT
BEGIN:VEVENT
DTSTART;TZID=America/New_York:20251122T100000
DTEND;TZID=America/New_York:20251122T120000
DTSTAMP:20260422T045329
CREATED:20250826T192217Z
LAST-MODIFIED:20251121T134601Z
UID:10000177-1763805600-1763812800@tnfw.org
SUMMARY:Canceled! Living with Nature Hike Wintergreen Hike - November 22\, 2025
DESCRIPTION:Join a Foundation Naturalist for an interpretive hike and explore Wintergreen’s natural environment!  These hikes are rated moderate. Meet at Trillium House. Payment due before event. FREE/Member\, $8/Non-Member.
URL:https://tnfw.org/event/living-with-nature-hike-wintergreen-hike-november-22-2025/
LOCATION:The Nature Foundation at Wintergreen\, 3421 Wintergreen Dr\, Roseland\, VA\, 22967\, United States
CATEGORIES:Living with Nature at Wintergreen Hike
ATTACH;FMTTYPE=image/jpeg:https://tnfw.org/wp-content/uploads/2024/08/IMG_5278-480x640-1-rotated.jpg
END:VEVENT
BEGIN:VEVENT
DTSTART;TZID=America/New_York:20251115T100000
DTEND;TZID=America/New_York:20251115T120000
DTSTAMP:20260422T045329
CREATED:20250826T191224Z
LAST-MODIFIED:20251114T151536Z
UID:10000176-1763200800-1763208000@tnfw.org
SUMMARY:Living With Nature Hike - November 15\, 2025
DESCRIPTION:Join a Foundation Naturalist for an interpretive hike and explore Wintergreen’s natural environment! These hikes are rated moderate. Meet at Trillium House. Payment due before event. FREE/Member\, $8/Non-Member.
URL:https://tnfw.org/event/living-with-nature-hike-november-15-2025/
LOCATION:The Nature Foundation at Wintergreen\, 3421 Wintergreen Dr\, Roseland\, VA\, 22967\, United States
CATEGORIES:Living with Nature at Wintergreen Hike
ATTACH;FMTTYPE=image/jpeg:https://tnfw.org/wp-content/uploads/2025/02/summer-hiking.jpg
END:VEVENT
BEGIN:VEVENT
DTSTART;TZID=America/New_York:20251108T100000
DTEND;TZID=America/New_York:20251108T120000
DTSTAMP:20260422T045329
CREATED:20250826T190028Z
LAST-MODIFIED:20250826T195028Z
UID:10000175-1762596000-1762603200@tnfw.org
SUMMARY:Living With Nature at Wintergreen Hike - November 8\, 2025
DESCRIPTION:Join a Foundation Naturalist for an interpretive hike and explore Wintergreen’s natural environment!  These hikes are rated moderate. Meet at Trillium House. Payment due before event. FREE/Member\, $8/Non-Member.
URL:https://tnfw.org/event/living-with-nature-at-wintergreen-hike-november-8-2025/
LOCATION:The Nature Foundation at Wintergreen\, 3421 Wintergreen Dr\, Roseland\, VA\, 22967\, United States
CATEGORIES:Living with Nature at Wintergreen Hike
ATTACH;FMTTYPE=image/jpeg:https://tnfw.org/wp-content/uploads/2025/02/spring-walk-scaled.jpg
END:VEVENT
BEGIN:VEVENT
DTSTART;TZID=America/New_York:20251101T100000
DTEND;TZID=America/New_York:20251101T120000
DTSTAMP:20260422T045329
CREATED:20250826T185336Z
LAST-MODIFIED:20250826T185336Z
UID:10000174-1761991200-1761998400@tnfw.org
SUMMARY:Living With Nature at Wintergreen Hike - November 1\, 2025
DESCRIPTION:Join a Foundation Naturalist for an interpretive hike and explore Wintergreen’s natural environment!  These hikes are rated moderate. Meet at Trillium House. Payment due before event. FREE/Member\, $8/Non-Member.
URL:https://tnfw.org/event/living-with-nature-at-wintergreen-hike-november-1-2025/
LOCATION:VA
CATEGORIES:Living with Nature at Wintergreen Hike
ATTACH;FMTTYPE=image/jpeg:https://tnfw.org/wp-content/uploads/2025/02/hike-summer.jpg
END:VEVENT
BEGIN:VEVENT
DTSTART;TZID=America/New_York:20251025T100000
DTEND;TZID=America/New_York:20251025T120000
DTSTAMP:20260422T045329
CREATED:20250826T190034Z
LAST-MODIFIED:20250826T184944Z
UID:10000168-1761386400-1761393600@tnfw.org
SUMMARY:Living with Nature at Wintergreen Hikes- October 25\, 2025
DESCRIPTION:Join a Foundation Naturalist for an interpretive hike and explore Wintergreen’s natural environment! These hikes are rated moderate to strenuous. Meet at Trillium House. Payment due before event. FREE/Member\, $8/Non-Member.
URL:https://tnfw.org/event/living-with-nature-at-wintergreen-hikes-october-25-2025/
LOCATION:The Nature Foundation at Wintergreen\, 3421 Wintergreen Dr\, Roseland\, VA\, 22967\, United States
CATEGORIES:Hikes,Living with Nature at Wintergreen Hike
ATTACH;FMTTYPE=image/jpeg:https://tnfw.org/wp-content/uploads/2023/09/hiking-fall-768x396-1.jpg
END:VEVENT
BEGIN:VEVENT
DTSTART;TZID=America/New_York:20251018T100000
DTEND;TZID=America/New_York:20251018T120000
DTSTAMP:20260422T045329
CREATED:20250826T190020Z
LAST-MODIFIED:20250826T184550Z
UID:10000169-1760781600-1760788800@tnfw.org
SUMMARY:Fall Foliage Hike - October 18\, 2025
DESCRIPTION:Join TNFW’s dynamite volunteer duo\, John and Abigail James\, for an autumn walk through Wintergreen’s golden woods to discover the secrets of fall. Hike is rated moderate to strenuous. Dress for weather. Meet at Trillium House parking lot. Payment due before event. Free Member. Non-member $15.
URL:https://tnfw.org/event/fall-foliage-hike-october-18-2025/
LOCATION:The Nature Foundation at Wintergreen\, 3421 Wintergreen Dr\, Roseland\, VA\, 22967\, United States
CATEGORIES:Hikes,Living with Nature at Wintergreen Hike
ATTACH;FMTTYPE=image/jpeg:https://tnfw.org/wp-content/uploads/2024/08/3-ridges.jpg
END:VEVENT
BEGIN:VEVENT
DTSTART;TZID=America/New_York:20251011T100000
DTEND;TZID=America/New_York:20251011T120000
DTSTAMP:20260422T045329
CREATED:20250826T191044Z
LAST-MODIFIED:20250826T190342Z
UID:10000167-1760176800-1760184000@tnfw.org
SUMMARY:Living with Nature at Wintergreen Hikes- October 11\, 2025
DESCRIPTION:Join a Foundation Naturalist for an interpretive hike and explore Wintergreen’s natural environment! These hikes are rated moderate to strenuous. Meet at Trillium House. Payment due before event. FREE/Member\, $8/Non-Member.
URL:https://tnfw.org/event/living-with-nature-at-wintergreen-hikes-october-11-2025/
LOCATION:The Nature Foundation at Wintergreen\, 3421 Wintergreen Dr\, Roseland\, VA\, 22967\, United States
CATEGORIES:Hikes,Living with Nature at Wintergreen Hike
ATTACH;FMTTYPE=image/jpeg:https://tnfw.org/wp-content/uploads/2024/08/medave.jpg
END:VEVENT
BEGIN:VEVENT
DTSTART;TZID=America/New_York:20251004T100000
DTEND;TZID=America/New_York:20251004T120000
DTSTAMP:20260422T045329
CREATED:20250826T195355Z
LAST-MODIFIED:20250916T204100Z
UID:10000163-1759572000-1759579200@tnfw.org
SUMMARY:Living with Nature at Wintergreen Hikes- October 4\, 2025 CANCELED
DESCRIPTION:Canceled
URL:https://tnfw.org/event/living-with-nature-at-wintergreen-hikes-october-4-2025/
LOCATION:The Nature Foundation at Wintergreen\, 3421 Wintergreen Dr\, Roseland\, VA\, 22967\, United States
CATEGORIES:Hikes,Living with Nature at Wintergreen Hike
ATTACH;FMTTYPE=image/jpeg:https://tnfw.org/wp-content/uploads/2024/08/WGR-Fall-Hiking-JPEG_sm.jpg
END:VEVENT
BEGIN:VEVENT
DTSTART;TZID=America/New_York:20250927T100000
DTEND;TZID=America/New_York:20250927T120000
DTSTAMP:20260422T045329
CREATED:20250525T184438Z
LAST-MODIFIED:20250523T184703Z
UID:10000158-1758967200-1758974400@tnfw.org
SUMMARY:Living with Nature at Wintergreen Hike - September  27\, 2025
DESCRIPTION:Join a Foundation Naturalist for an interpretive hike and explore Wintergreen’s natural environment! These hikes are rated moderate to strenuous. Meet at Trillium House parking lot. FREE/Member\, $8/Non-Member.
URL:https://tnfw.org/event/living-with-nature-at-wintergreen-hike-september-27-2025/
LOCATION:The Nature Foundation at Wintergreen\, 3421 Wintergreen Dr\, Roseland\, VA\, 22967\, United States
CATEGORIES:Hikes,Living with Nature at Wintergreen Hike
ATTACH;FMTTYPE=image/jpeg:https://tnfw.org/wp-content/uploads/2025/05/dad-hike.jpg
END:VEVENT
BEGIN:VEVENT
DTSTART;TZID=America/New_York:20250920T100000
DTEND;TZID=America/New_York:20250920T120000
DTSTAMP:20260422T045329
CREATED:20250525T184148Z
LAST-MODIFIED:20250602T000745Z
UID:10000157-1758362400-1758369600@tnfw.org
SUMMARY:Living with Nature at Wintergreen Hike - September 20\, 2025
DESCRIPTION:Join a Foundation Naturalist for an interpretive hike and explore Wintergreen’s natural environment! These hikes are rated moderate to strenuous. Meet at Trillium House parking lot. FREE/Member\, $8/Non-Member.
URL:https://tnfw.org/event/living-with-nature-at-wintergreen-hike-september-20-2025/
LOCATION:The Nature Foundation at Wintergreen\, 3421 Wintergreen Dr\, Roseland\, VA\, 22967\, United States
CATEGORIES:Hikes,Living with Nature at Wintergreen Hike
ATTACH;FMTTYPE=image/jpeg:https://tnfw.org/wp-content/uploads/2025/05/dad-hike.jpg
END:VEVENT
BEGIN:VEVENT
DTSTART;TZID=America/New_York:20250913T100000
DTEND;TZID=America/New_York:20250913T120000
DTSTAMP:20260422T045329
CREATED:20250525T183449Z
LAST-MODIFIED:20250913T132326Z
UID:10000156-1757757600-1757764800@tnfw.org
SUMMARY:Living with Nature at Wintergreen Hike - September 13\, 2025
DESCRIPTION:Join a Foundation Naturalist for an interpretive hike and explore Wintergreen’s natural environment! These hikes are rated moderate to strenuous. Meet at Trillium House parking lot. FREE/Member\, $8/Non-Member.
URL:https://tnfw.org/event/living-with-nature-at-wintergreen-hike-september-13-2025/
LOCATION:The Nature Foundation at Wintergreen\, 3421 Wintergreen Dr\, Roseland\, VA\, 22967\, United States
CATEGORIES:Hikes,Living with Nature at Wintergreen Hike
ATTACH;FMTTYPE=image/jpeg:https://tnfw.org/wp-content/uploads/2025/05/dad-hike.jpg
END:VEVENT
BEGIN:VEVENT
DTSTART;TZID=America/New_York:20250906T100000
DTEND;TZID=America/New_York:20250906T120000
DTSTAMP:20260422T045329
CREATED:20250525T181301Z
LAST-MODIFIED:20250523T183438Z
UID:10000155-1757152800-1757160000@tnfw.org
SUMMARY:Living with Nature at Wintergreen Hike - September 6\, 2025
DESCRIPTION:Join a Foundation Naturalist for an interpretive hike and explore Wintergreen’s natural environment! These hikes are rated moderate to strenuous. Meet at Trillium House parking lot. FREE/Member\, $8/Non-Member.
URL:https://tnfw.org/event/living-with-nature-at-wintergreen-hike-september-6-2025/
LOCATION:The Nature Foundation at Wintergreen\, 3421 Wintergreen Dr\, Roseland\, VA\, 22967\, United States
CATEGORIES:Hikes,Living with Nature at Wintergreen Hike
ATTACH;FMTTYPE=image/jpeg:https://tnfw.org/wp-content/uploads/2025/05/dad-hike.jpg
END:VEVENT
BEGIN:VEVENT
DTSTART;TZID=America/New_York:20250830T100000
DTEND;TZID=America/New_York:20250830T120000
DTSTAMP:20260422T045329
CREATED:20250525T200906Z
LAST-MODIFIED:20250826T170622Z
UID:10000150-1756548000-1756555200@tnfw.org
SUMMARY:Living with Nature at Wintergreen - August 30\, 2025
DESCRIPTION:Join our newest volunteer Foundation Naturalist\, Julie Gough for an interpretive hike and explore Wintergreen’s natural environment! These hikes are rated moderate to strenuous. Meet at Trillium House parking lot. Payment is due at the time of registration. FREE/Member\, $8/Non-Member.
URL:https://tnfw.org/event/living-with-nature-at-wintergreen-august-30-2025/
LOCATION:The Nature Foundation at Wintergreen\, 3421 Wintergreen Dr\, Roseland\, VA\, 22967\, United States
CATEGORIES:Hikes,Living with Nature at Wintergreen Hike
ATTACH;FMTTYPE=image/jpeg:https://tnfw.org/wp-content/uploads/2025/05/julie-G.jpg
END:VEVENT
BEGIN:VEVENT
DTSTART;TZID=America/New_York:20250823T100000
DTEND;TZID=America/New_York:20250823T120000
DTSTAMP:20260422T045329
CREATED:20250525T200128Z
LAST-MODIFIED:20250523T171104Z
UID:10000149-1755943200-1755950400@tnfw.org
SUMMARY:Living with Nature at Wintergreen - August  23\, 2025
DESCRIPTION:Join a Foundation Naturalist for an interpretive hike and explore Wintergreen’s natural environment! These hikes are rated moderate to strenuous. Meet at Trillium House parking lot. Payment is due at the time of registration. FREE/Member\, $8/Non-Member.
URL:https://tnfw.org/event/living-with-nature-at-wintergreen-august-23-2025/
LOCATION:The Nature Foundation at Wintergreen\, 3421 Wintergreen Dr\, Roseland\, VA\, 22967\, United States
CATEGORIES:Hikes,Living with Nature at Wintergreen Hike
ATTACH;FMTTYPE=image/jpeg:https://tnfw.org/wp-content/uploads/2025/01/DSC_0017.jpg
END:VEVENT
BEGIN:VEVENT
DTSTART;TZID=America/New_York:20250820T090000
DTEND;TZID=America/New_York:20250820T120000
DTSTAMP:20260422T045329
CREATED:20250525T175039Z
LAST-MODIFIED:20250523T175447Z
UID:10000153-1755680400-1755691200@tnfw.org
SUMMARY:A Piece of Wintergreen’s Past: The Copper Mines- Aug 20\, 2025
DESCRIPTION:Join Josh Palumbo on a climb into Wintergreen’s past with a trip to the copper mines. This unique spot on the very steep east slope of Crawford’s Knob was an active mine in the late 1890’s before being quickly abandoned. Not only are the mines unique but its location is also fascinating\, located in a lovely depression along a creek bed acting as home to a variety of wildlife including deer\, turkey and\, of course\, bats. This is a trip every Wintergreen resident must put on their “bucket list”. Difficult. Bring a flashlight\, lunch and plenty of water. Payment is due at the time of registration.
URL:https://tnfw.org/event/a-piece-of-wintergreens-past-the-copper-mines-aug-20-2025/
LOCATION:The Nature Foundation at Wintergreen\, 3421 Wintergreen Dr\, Roseland\, VA\, 22967\, United States
CATEGORIES:Hikes
ATTACH;FMTTYPE=image/jpeg:https://tnfw.org/wp-content/uploads/2025/05/coppermine.jpg
END:VEVENT
BEGIN:VEVENT
DTSTART;TZID=America/New_York:20250816T100000
DTEND;TZID=America/New_York:20250816T120000
DTSTAMP:20260422T045329
CREATED:20250525T195501Z
LAST-MODIFIED:20250814T130438Z
UID:10000148-1755338400-1755345600@tnfw.org
SUMMARY:Living with Nature at Wintergreen - August 16\, 2025
DESCRIPTION:Join a Foundation Naturalist\, Tony Slotwinski for an interpretive hike and explore Wintergreen’s natural environment! These hikes are rated moderate to strenuous. Meet at Trillium House parking lot. Payment is due at the time of registration. FREE/Member\, $8/Non-Member.
URL:https://tnfw.org/event/living-with-nature-at-wintergreen-august-16-2025/
LOCATION:The Nature Foundation at Wintergreen\, 3421 Wintergreen Dr\, Roseland\, VA\, 22967\, United States
CATEGORIES:Hikes,Living with Nature at Wintergreen Hike
ATTACH;FMTTYPE=image/jpeg:https://tnfw.org/wp-content/uploads/2025/05/Tony-S.jpg
END:VEVENT
BEGIN:VEVENT
DTSTART;TZID=America/New_York:20250809T100000
DTEND;TZID=America/New_York:20250809T120000
DTSTAMP:20260422T045329
CREATED:20250525T193029Z
LAST-MODIFIED:20250808T184904Z
UID:10000146-1754733600-1754740800@tnfw.org
SUMMARY:Living with Nature at Wintergreen - August 9\, 2025
DESCRIPTION:Join a Foundation Naturalist for an interpretive hike and explore Wintergreen’s natural environment! These hikes are rated moderate to strenuous. Meet at Trillium House parking lot. Payment is due at the time of registration. FREE/Member\, $8/Non-Member.
URL:https://tnfw.org/event/living-with-nature-at-wintergreen-august-2-2025/
LOCATION:The Nature Foundation at Wintergreen\, 3421 Wintergreen Dr\, Roseland\, VA\, 22967\, United States
CATEGORIES:Hikes,Living with Nature at Wintergreen Hike
ATTACH;FMTTYPE=image/jpeg:https://tnfw.org/wp-content/uploads/2025/05/john-and-abigail3.jpg
END:VEVENT
BEGIN:VEVENT
DTSTART;TZID=America/New_York:20250726T100000
DTEND;TZID=America/New_York:20250726T120000
DTSTAMP:20260422T045329
CREATED:20250525T172059Z
LAST-MODIFIED:20250718T142830Z
UID:10000139-1753524000-1753531200@tnfw.org
SUMMARY:Canceled! Living with Nature at Wintergreen - July 26\, 2025
DESCRIPTION:Join a Foundation Naturalist for an interpretive hike and explore Wintergreen’s natural environment! These hikes are rated moderate to strenuous. Meet at Trillium House parking lot. Payment is due at the time of registration. FREE/Member\, $8/Non-Member.
URL:https://tnfw.org/event/living-with-nature-at-wintergreen-july-26-2025/
LOCATION:The Nature Foundation at Wintergreen\, 3421 Wintergreen Dr\, Roseland\, VA\, 22967\, United States
CATEGORIES:Hikes,Living with Nature at Wintergreen Hike
ATTACH;FMTTYPE=image/jpeg:https://tnfw.org/wp-content/uploads/2025/02/hike-summer.jpg
END:VEVENT
BEGIN:VEVENT
DTSTART;TZID=America/New_York:20250719T100000
DTEND;TZID=America/New_York:20250719T120000
DTSTAMP:20260422T045329
CREATED:20250525T161709Z
LAST-MODIFIED:20250718T143001Z
UID:10000137-1752919200-1752926400@tnfw.org
SUMMARY:Canceled! Living with Nature at Wintergreen - July 19\, 2025
DESCRIPTION:Join a Foundation Naturalist for an interpretive hike and explore Wintergreen’s natural environment! These hikes are rated moderate to strenuous. Meet at Trillium House parking lot. Payment is due at the time of registration. FREE/Member\, $8/Non-Member.
URL:https://tnfw.org/event/living-with-nature-at-wintergreen-july-19-2025/
LOCATION:The Nature Foundation at Wintergreen\, 3421 Wintergreen Dr\, Roseland\, VA\, 22967\, United States
CATEGORIES:Hikes,Living with Nature at Wintergreen Hike
ATTACH;FMTTYPE=image/jpeg:https://tnfw.org/wp-content/uploads/2025/02/hike-summer.jpg
END:VEVENT
END:VCALENDAR