BEGIN:VCALENDAR
VERSION:2.0
PRODID:-//The Nature Foundation at Wintergreen - ECPv6.15.14//NONSGML v1.0//EN
CALSCALE:GREGORIAN
METHOD:PUBLISH
X-ORIGINAL-URL:https://tnfw.org
X-WR-CALDESC:Events for The Nature Foundation at Wintergreen
REFRESH-INTERVAL;VALUE=DURATION:PT1H
X-Robots-Tag:noindex
X-PUBLISHED-TTL:PT1H
BEGIN:VTIMEZONE
TZID:America/New_York
BEGIN:DAYLIGHT
TZOFFSETFROM:-0500
TZOFFSETTO:-0400
TZNAME:EDT
DTSTART:20230312T070000
END:DAYLIGHT
BEGIN:STANDARD
TZOFFSETFROM:-0400
TZOFFSETTO:-0500
TZNAME:EST
DTSTART:20231105T060000
END:STANDARD
BEGIN:DAYLIGHT
TZOFFSETFROM:-0500
TZOFFSETTO:-0400
TZNAME:EDT
DTSTART:20240310T070000
END:DAYLIGHT
BEGIN:STANDARD
TZOFFSETFROM:-0400
TZOFFSETTO:-0500
TZNAME:EST
DTSTART:20241103T060000
END:STANDARD
BEGIN:DAYLIGHT
TZOFFSETFROM:-0500
TZOFFSETTO:-0400
TZNAME:EDT
DTSTART:20250309T070000
END:DAYLIGHT
BEGIN:STANDARD
TZOFFSETFROM:-0400
TZOFFSETTO:-0500
TZNAME:EST
DTSTART:20251102T060000
END:STANDARD
BEGIN:DAYLIGHT
TZOFFSETFROM:-0500
TZOFFSETTO:-0400
TZNAME:EDT
DTSTART:20260308T070000
END:DAYLIGHT
BEGIN:STANDARD
TZOFFSETFROM:-0400
TZOFFSETTO:-0500
TZNAME:EST
DTSTART:20261101T060000
END:STANDARD
BEGIN:DAYLIGHT
TZOFFSETFROM:-0500
TZOFFSETTO:-0400
TZNAME:EDT
DTSTART:20270314T070000
END:DAYLIGHT
BEGIN:STANDARD
TZOFFSETFROM:-0400
TZOFFSETTO:-0500
TZNAME:EST
DTSTART:20271107T060000
END:STANDARD
END:VTIMEZONE
BEGIN:VEVENT
DTSTART;TZID=America/New_York:20260409T090000
DTEND;TZID=America/New_York:20260409T150000
DTSTAMP:20260420T031354
CREATED:20260228T215153Z
LAST-MODIFIED:20260307T161330Z
UID:10000209-1775725200-1775746800@tnfw.org
SUMMARY:Ladies Day Out - Special Historical Hike Series- April 9\, 2026
DESCRIPTION:Step back in time\, celebrate a milestone in our nation’s history\, and enjoy a wonderful day out as we celebrate America’s 250 anniversary at one of our nation’s most iconic landmarks—Monticello\, the home of Founding Father President Thomas Jefferson. We will take a leisurely stroll along Saunders- Monticello trail and through the beautifully landscaped\, historic grounds of Jefferson’s renowned estate. Followed by lunch at the beloved and historic Michie Tavern\, a local favorite steeped in colonial charm. This 6.2-mile walk is rated easy to moderate. Bring water\, a snack and money for lunch. Payment includes entrance fee to estate and is due at time of registration.
URL:https://tnfw.org/event/ladies-day-out-special-historical-hike-series/
LOCATION:VA
CATEGORIES:Hike
ATTACH;FMTTYPE=image/jpeg:https://tnfw.org/wp-content/uploads/2026/02/monticello.jpg
END:VEVENT
BEGIN:VEVENT
DTSTART;TZID=America/New_York:20260325T090000
DTEND;TZID=America/New_York:20260325T160000
DTSTAMP:20260420T031354
CREATED:20251130T170025Z
LAST-MODIFIED:20251130T003829Z
UID:10000186-1774429200-1774454400@tnfw.org
SUMMARY:Journey to High Places - March 25\, 2026
DESCRIPTION:Join Kathie Driscoll for a challenging yet rewarding hike along the Appalachian Trail at Long Mountain (Route 60). This strenuous 8-mile out-and-back hike follows scenic Brown Mountain Creek\, where you’ll experience the beauty of early spring ephemerals\, the pristine mountain stream\, and the historic remnants of the Brown Mountain community. Bring plenty of water\, lunch and snack.
URL:https://tnfw.org/event/journey-to-high-places-march-25-2025/
LOCATION:The Nature Foundation at Wintergreen\, 3421 Wintergreen Dr\, Roseland\, VA\, 22967\, United States
CATEGORIES:Hike,Hikes
ATTACH;FMTTYPE=image/jpeg:https://tnfw.org/wp-content/uploads/2025/11/Brown-Mountain-Creek-Sign-1.jpg
END:VEVENT
BEGIN:VEVENT
DTSTART;TZID=America/New_York:20260318T090000
DTEND;TZID=America/New_York:20260318T150000
DTSTAMP:20260420T031354
CREATED:20251130T170007Z
LAST-MODIFIED:20260317T135116Z
UID:10000188-1773824400-1773846000@tnfw.org
SUMMARY:Trek Up Three Ridges - 03/18/2026
DESCRIPTION:Join Josh Palumbo as we summit Three Ridges. Take advantage of the leafless trees and get lovely views as we peak atop our neighbor mountain to the south. The hike is approximately 8.8 miles out to the summit of this popular local hike. Be sure to dress for variable late winter weather. This hike is rated as difficult. Bring plenty of food and water. Payment is due at time of registration.
URL:https://tnfw.org/event/trek-up-three-ridges-03-18-2025/
LOCATION:VA
CATEGORIES:Hike
ATTACH;FMTTYPE=image/jpeg:https://tnfw.org/wp-content/uploads/2025/05/Furnace-Mountain-Summit-Views-Feature-800x445-1.jpg
END:VEVENT
BEGIN:VEVENT
DTSTART;TZID=America/New_York:20260305T090000
DTEND;TZID=America/New_York:20260305T120000
DTSTAMP:20260420T031354
CREATED:20251129T143057Z
LAST-MODIFIED:20260102T181422Z
UID:10000192-1772701200-1772712000@tnfw.org
SUMMARY:Blue Quartz Hill on the Tye River Excursion - March 5\, 2025
DESCRIPTION:Join geologist Chuck Bailey for a fascinating geology and natural history walk along the scenic Tye River. The hike will conclude at Chuck’s pavilion with lively discussion and hot cider. Please bring water and a snack. Payment is due at time of registration.
URL:https://tnfw.org/event/blue-quartz-hill-on-the-tye-river-excursion-march-5-2025/
LOCATION:The Nature Foundation at Wintergreen\, 3421 Wintergreen Dr\, Roseland\, VA\, 22967\, United States
CATEGORIES:Hike
ATTACH;FMTTYPE=image/jpeg:https://tnfw.org/wp-content/uploads/2025/11/ConfluenceTyeJamesRivers.jpg
END:VEVENT
BEGIN:VEVENT
DTSTART;TZID=America/New_York:20260121T090000
DTEND;TZID=America/New_York:20260121T140000
DTSTAMP:20260420T031354
CREATED:20251130T171049Z
LAST-MODIFIED:20251130T005649Z
UID:10000189-1768986000-1769004000@tnfw.org
SUMMARY:Comparing the Old and the New Hike- January 21\, 2026
DESCRIPTION:Join Josh Palumbo as we loop from the Old Appalachian Trail atop Wintergreen down to the current AT and back via the Dripping Rock access point. This hike will feature constant views as compare the old verse the new Appalachian Trail. This approximately 4.5-mile hike will be moderate to difficult.\nBe sure to dress for winter weather hiking. Bring plenty of food and drink. Payment is due at time of registration.
URL:https://tnfw.org/event/comparing-the-old-and-the-new-hike-january-21-2026/
LOCATION:The Nature Foundation at Wintergreen\, 3421 Wintergreen Dr\, Roseland\, VA\, 22967\, United States
CATEGORIES:Hike
ATTACH;FMTTYPE=image/jpeg:https://tnfw.org/wp-content/uploads/2025/11/Dripping-Rock-Parking-Area-Sign.jpg
END:VEVENT
BEGIN:VEVENT
DTSTART;TZID=America/New_York:20251210T100000
DTEND;TZID=America/New_York:20251210T130000
DTSTAMP:20260420T031354
CREATED:20250826T231736Z
LAST-MODIFIED:20251029T182425Z
UID:10000181-1765360800-1765371600@tnfw.org
SUMMARY:The Lost Appalachian Trail - December 10\, 2025
DESCRIPTION:Join Josh Palumbo as we retrace the steps of Appalachian Trail history. This journey will take us on the lost route from Cedar Drive to Reeds Gap. The hike is rated as moderate. Dress for any weather conditions. Bring plenty of food and water. Payment is due at time of registration. $5/Member\, $8/Non-Member.
URL:https://tnfw.org/event/the-lost-appalachian-trail-december-10-2025/
LOCATION:The Nature Foundation at Wintergreen\, 3421 Wintergreen Dr\, Roseland\, VA\, 22967\, United States
CATEGORIES:Hike
ATTACH;FMTTYPE=image/jpeg:https://tnfw.org/wp-content/uploads/2025/02/allen-creek11-header.jpg
END:VEVENT
BEGIN:VEVENT
DTSTART;TZID=America/New_York:20251119T090000
DTEND;TZID=America/New_York:20251119T140000
DTSTAMP:20260420T031354
CREATED:20250826T194313Z
LAST-MODIFIED:20251118T134346Z
UID:10000179-1763542800-1763560800@tnfw.org
SUMMARY:A Walk to White Rock Falls - November 19\, 2025
DESCRIPTION:Join Josh Palumbo as we explore the White Rock Falls Trail and the Slacks Trail. This 4.5-mile loop features a lovely waterfall\, great winter views and lovely rock formations. The hike is rated moderate to difficult. Please bring plenty of food and water. Payment is due at time of registration. $8/Member\, $12/Non-Member.
URL:https://tnfw.org/event/a-walk-to-white-rock-falls-november-19-2025/
LOCATION:The Nature Foundation at Wintergreen\, 3421 Wintergreen Dr\, Roseland\, VA\, 22967\, United States
CATEGORIES:Hike
ATTACH;FMTTYPE=image/jpeg:https://tnfw.org/wp-content/uploads/2025/05/dad-hike.jpg
END:VEVENT
BEGIN:VEVENT
DTSTART;TZID=America/New_York:20251113T090000
DTEND;TZID=America/New_York:20251113T140000
DTSTAMP:20260420T031354
CREATED:20250826T190031Z
LAST-MODIFIED:20251112T195734Z
UID:10000173-1763024400-1763042400@tnfw.org
SUMMARY:Canceled! Ladies Day Out Hike - November 13\, 2025
DESCRIPTION:Lace up ladies for a scenic stroll around a new location (Ragged Mountain Reservoir is under construction) Mint Springs Valley Park; a 5 mike easy to moderate trail that winds through majestic forests and wildlife-rich areas. Bring a snack\, money for lunch\, water\, and your sense of adventure! Payment is due at time of registration. $8/Member\, $12/Non-Member.
URL:https://tnfw.org/event/ladies-day-out-hike-november-13-2025/
LOCATION:The Nature Foundation at Wintergreen\, 3421 Wintergreen Dr\, Roseland\, VA\, 22967\, United States
CATEGORIES:Hike
ATTACH;FMTTYPE=image/jpeg:https://tnfw.org/wp-content/uploads/2025/08/1000020031-scaled.jpg
END:VEVENT
BEGIN:VEVENT
DTSTART;TZID=America/New_York:20251031T130000
DTEND;TZID=America/New_York:20251031T160000
DTSTAMP:20260420T031354
CREATED:20250826T190047Z
LAST-MODIFIED:20251006T185006Z
UID:10000172-1761915600-1761926400@tnfw.org
SUMMARY:Halloween Hike - The Blue Ridge Tunnel - October 31\, 2025
DESCRIPTION:Ready for a spooktacular adventure? Join us for a hauntingly fun 3-mile hike through the historic Blue Ridge Tunnel\, where echoes of locomotives and coal-fired engines still linger in the shadows. Bring a flashlight and don your best costume—you’ll need it as we wander through the eerie darkness in search of ghostly tales and hidden chills. After our haunted hike\, we’ll unwind with a whine tasting at Veritas Winery—because even brave souls need a break. Good walking shoes\, and a love for a little fright required! Bring money for wine-tasting. Payment is due at time of registration. $8/Member\, $12/Non-Member.
URL:https://tnfw.org/event/halloween-hike-the-blue-ridge-tunnel-october-31-2025/
LOCATION:The Nature Foundation at Wintergreen\, 3421 Wintergreen Dr\, Roseland\, VA\, 22967\, United States
CATEGORIES:Hike
ATTACH;FMTTYPE=image/jpeg:https://tnfw.org/wp-content/uploads/2025/08/blue-ridge-tunnel.jpg
END:VEVENT
BEGIN:VEVENT
DTSTART;TZID=America/New_York:20251022T090000
DTEND;TZID=America/New_York:20251022T160000
DTSTAMP:20260420T031354
CREATED:20250826T184238Z
LAST-MODIFIED:20250910T200343Z
UID:10000170-1761123600-1761148800@tnfw.org
SUMMARY:The Balds of Cole Mountain -  October 22\, 2025
DESCRIPTION:Join Josh Palumbo as we climb Cole Mountain to explore its alpine-like grassy balds. The hike to this peak along the Appalachian Trail is like few others in central Virginia. Do not miss the opportunity to see this unique ecosystem while experiencing 360-degree panoramic views. This 5.7-mile circuit hike is rated as moderate. Please bring plenty of food and water. Payment is due at time of registration. $10/Member\, $15/Non-Member.
URL:https://tnfw.org/event/the-balds-of-cole-mountain-october-22-2025/
LOCATION:The Nature Foundation at Wintergreen\, 3421 Wintergreen Dr\, Roseland\, VA\, 22967\, United States
CATEGORIES:Hike
ATTACH;FMTTYPE=image/jpeg:https://tnfw.org/wp-content/uploads/2025/05/Furnace-Mountain-Summit-Views-Feature-800x445-1.jpg
END:VEVENT
BEGIN:VEVENT
DTSTART;TZID=America/New_York:20251009T090000
DTEND;TZID=America/New_York:20251009T140000
DTSTAMP:20260420T031354
CREATED:20250826T173329Z
LAST-MODIFIED:20251001T143652Z
UID:10000166-1760000400-1760018400@tnfw.org
SUMMARY:Ladies Day Hike October 9\, 2025
DESCRIPTION:Ladies Day Out Hike- October 9\, 9am – 2pm\nTake a Stroll & Savor the View! Join us for a relaxed 1.5-mile walk through 42 acres of beautiful hardwood forest—right in the heart of Lynchburg! After our nature walk\, we’ll swing by Magnolia Foods to pick up a delicious boxed lunch\, then head to scenic Riverside Park for a picnic on the bluff. Payment is due at time of registration. $8/Member\, $12/Non-Member.
URL:https://tnfw.org/event/ladies-day-hike-october-9-2025/
LOCATION:The Nature Foundation at Wintergreen\, 3421 Wintergreen Dr\, Roseland\, VA\, 22967\, United States
CATEGORIES:Hike
ATTACH;FMTTYPE=image/jpeg:https://tnfw.org/wp-content/uploads/2024/06/ladies-hike-scaled.jpg
END:VEVENT
BEGIN:VEVENT
DTSTART;TZID=America/New_York:20250924T090000
DTEND;TZID=America/New_York:20250924T150000
DTSTAMP:20260420T031354
CREATED:20250525T184721Z
LAST-MODIFIED:20250523T190342Z
UID:10000159-1758704400-1758726000@tnfw.org
SUMMARY:A Foray up Furnace Mountain- September 24\, 2025  
DESCRIPTION:Join Josh Palumbo as we climb the rugged Furnace Mountain Trail. This 4.2 mile out and back features steep ascents up exposed ridgelines to a payoff atop Furnace Mountain. See the first flashes of fall in the Shenandoah National Park on this difficult ascent. Be sure to bring plenty of food and water. The hike is rated difficult. 
URL:https://tnfw.org/event/a-foray-up-furnace-mountain-september-24-2025/
LOCATION:The Nature Foundation at Wintergreen\, 3421 Wintergreen Dr\, Roseland\, VA\, 22967\, United States
CATEGORIES:Hike
ATTACH;FMTTYPE=image/jpeg:https://tnfw.org/wp-content/uploads/2025/05/Furnace-Mountain-Summit-Views-Feature-800x445-1.jpg
END:VEVENT
BEGIN:VEVENT
DTSTART;TZID=America/New_York:20250911T090000
DTEND;TZID=America/New_York:20250911T150000
DTSTAMP:20260420T031354
CREATED:20250525T175503Z
LAST-MODIFIED:20250814T131851Z
UID:10000154-1757581200-1757602800@tnfw.org
SUMMARY:Ladies Day Out Hike – September 11\, 2025
DESCRIPTION:Time for another ladies day out\, this time we’re heading to Albemarle’s newest park\, Biscuit Run Park for an easy to moderate hike\, then head over Eastwood Winery for lunch. Bring water\, money for lunch and a snack. Payment is due at time of registration. $8/Member\, $12/Non-Member.
URL:https://tnfw.org/event/ladies-day-out-hike-september-11-2025/
LOCATION:The Nature Foundation at Wintergreen\, 3421 Wintergreen Dr\, Roseland\, VA\, 22967\, United States
CATEGORIES:Hike
ATTACH;FMTTYPE=image/jpeg:https://tnfw.org/wp-content/uploads/2025/05/20230921_100346-scaled.jpg
END:VEVENT
BEGIN:VEVENT
DTSTART;TZID=America/New_York:20250730T090000
DTEND;TZID=America/New_York:20250730T120000
DTSTAMP:20260420T031354
CREATED:20250525T182433Z
LAST-MODIFIED:20250710T141431Z
UID:10000144-1753866000-1753876800@tnfw.org
SUMMARY:Meet the Mushrooms- July 30\, 2025
DESCRIPTION:Join Mary Jane Epps on an introductory tour into the world of mycology. The goal of this venture is to educate each hiker on the basics of mushroom identification. We will scour the Wintergreen landscape in search of the many varieties our ecosystem can produce. The hike is rated as moderate. Payment is due at the time of registration.
URL:https://tnfw.org/event/meet-the-mushrooms-july-30-2025/
LOCATION:The Nature Foundation at Wintergreen\, 3421 Wintergreen Dr\, Roseland\, VA\, 22967\, United States
CATEGORIES:Family Fun,Hike,Kids Activity
ATTACH;FMTTYPE=image/jpeg:https://tnfw.org/wp-content/uploads/2025/05/mushrrom-hike.jpg
END:VEVENT
BEGIN:VEVENT
DTSTART;TZID=America/New_York:20250611T090000
DTEND;TZID=America/New_York:20250611T130000
DTSTAMP:20260420T031354
CREATED:20250226T232634Z
LAST-MODIFIED:20250604T150722Z
UID:10000128-1749632400-1749646800@tnfw.org
SUMMARY:The Great Rhododendron Quest- June 11\, 2025  
DESCRIPTION:Join Josh Palumbo as we journey high and low for the best rhododendron thickets Wintergreen has to offer. Seeking this member of the heath family at peak bloom promises some of the best explosions of color the mountain will have all year. We will travel over many different trails and locations that will highlight one of our favorite species. The hike is rated moderate to difficult. Bring plenty of food and water. $8/Member\, $12/Non-member.
URL:https://tnfw.org/event/the-great-rhododendron-quest-june-11-2025/
LOCATION:VA
CATEGORIES:Hike
ATTACH;FMTTYPE=image/jpeg:https://tnfw.org/wp-content/uploads/2025/02/rhododendon-trail-scaled.jpg
ORGANIZER;CN="Kathie @ The Nature Foundation":MAILTO:youth@tnfw.org
END:VEVENT
BEGIN:VEVENT
DTSTART;TZID=America/New_York:20250507T080000
DTEND;TZID=America/New_York:20250507T170000
DTSTAMP:20260420T031354
CREATED:20250226T232111Z
LAST-MODIFIED:20250306T184414Z
UID:10000124-1746604800-1746637200@tnfw.org
SUMMARY:Hike up the House- May 7\, 2025
DESCRIPTION:Come spend a day with Josh Palumbo as we journey west to House Mountain. This monolith sits isolated from other peaks just west of Lexington and offers grand views to the south. This approximately 9 mile trek will take adventurous hikers past old homesteads\, up steep mountain faces and onto great overlooks. This hike is rated as difficult with numerous vertical climbs. Bring plenty of food and water!
URL:https://tnfw.org/event/hike-up-the-house-may-7-2025/
LOCATION:VA
CATEGORIES:Hike
ATTACH;FMTTYPE=image/jpeg:https://tnfw.org/wp-content/uploads/2025/02/big-house.jpg
ORGANIZER;CN="Kathie @ The Nature Foundation":MAILTO:youth@tnfw.org
END:VEVENT
BEGIN:VEVENT
DTSTART;TZID=America/New_York:20250501T090000
DTEND;TZID=America/New_York:20250501T140000
DTSTAMP:20260420T031354
CREATED:20250226T234735Z
LAST-MODIFIED:20250306T183217Z
UID:10000120-1746090000-1746108000@tnfw.org
SUMMARY:Ladies Day Out Hike- May 1\, 2025
DESCRIPTION:Looking for an excuse to stretch your legs and enjoy some fresh air? Join Kathie Driscoll for a leisurely stroll along the beautiful Sweet Briar College trails! Set on 3\,250 acres in the foothills of the Blue Ridge Mountains\, Sweet Briar College offers 2\,847 acres of fields\, forests\, and waterways—plenty of space to get “lost” (just kidding… probably). After soaking in the scenery\, we’ll reward ourselves with lunch at the famed Prothro Café. Bring money for lunch. Payment is due at time of registration.
URL:https://tnfw.org/event/ladies-day-out-hike-may-1-2025/
LOCATION:VA
CATEGORIES:Hike
ATTACH;FMTTYPE=image/jpeg:https://tnfw.org/wp-content/uploads/2025/02/20210506_112115-scaled.jpg
ORGANIZER;CN="Kathie @ The Nature Foundation":MAILTO:youth@tnfw.org
END:VEVENT
BEGIN:VEVENT
DTSTART;TZID=America/New_York:20250426T100000
DTEND;TZID=America/New_York:20250426T150000
DTSTAMP:20260420T031354
CREATED:20250226T235545Z
LAST-MODIFIED:20250423T144011Z
UID:10000116-1745661600-1745679600@tnfw.org
SUMMARY:Walk to the Wreckage- April 26\, 2025
DESCRIPTION:Back by popular demand! Join Rich Velletri for a hike to the wreckage of an old military aircraft that crashed in the early 1960s\, and learn details of the fateful flight. This six mile round trip hike is rated as difficult and over mountainous rocky terrain\, but has nice views. The route to the crash site will be along the Appalachian Trail and requires bushwhacking. Dress for all weather conditions\, bring food and water. Payment is due at time of registration.
URL:https://tnfw.org/event/walk-to-the-wreckage-april-26-2025/
LOCATION:VA
CATEGORIES:Hike
ATTACH;FMTTYPE=image/jpeg:https://tnfw.org/wp-content/uploads/2025/02/wreckage.jpg
ORGANIZER;CN="Kathie @ The Nature Foundation":MAILTO:youth@tnfw.org
END:VEVENT
BEGIN:VEVENT
DTSTART;TZID=America/New_York:20250403T090000
DTEND;TZID=America/New_York:20250403T150000
DTSTAMP:20260420T031354
CREATED:20250226T235809Z
LAST-MODIFIED:20250327T195320Z
UID:10000112-1743670800-1743692400@tnfw.org
SUMMARY:Ladies Day Out Hike - April 3\, 2025
DESCRIPTION:Let’s welcome spring with Lena Kroll\, Certified Master Naturalist and Preserve Steward for the Nature Conservancy’s Fortune’s Cove trail. As a trail Steward\, Lena hikes Fortune’s Cove throughout the year\, assessing the trail and performing basic trail maintenance. Join us as we explore a 4.1-mile loop trail where it’s rare to encounter others\, but is a great hike to view spring ephemerals\, as well as native and invasive species.  Rated moderate. Bring water\, lunch and a snack. Payment is due at time of registration.
URL:https://tnfw.org/event/ladies-day-out-hike-april-3-2025/
LOCATION:VA
CATEGORIES:Hike
ATTACH;FMTTYPE=image/jpeg:https://tnfw.org/wp-content/uploads/2025/02/fortune-s-cove-preserve.jpg
ORGANIZER;CN="Kathie @ The Nature Foundation":MAILTO:youth@tnfw.org
END:VEVENT
BEGIN:VEVENT
DTSTART;TZID=America/New_York:20241211T090000
DTEND;TZID=America/New_York:20241211T130000
DTSTAMP:20260420T031354
CREATED:20240924T195910Z
LAST-MODIFIED:20240924T195910Z
UID:10000087-1733907600-1733922000@tnfw.org
SUMMARY:Hidden Views and Vistas of Wintergreen- December 11\, 2024
DESCRIPTION:Join TNFW staff member Josh Palumbo on an exploration of seldom seen panoramas at Wintergreen. This bushwhack will go to hidden rock outcrops\, waterfall views and other hidden gems of the Wintergreen wilderness. The journey will involve multiple bushwhacks into different locals so be prepared for difficult terrain and uneven footing. The hike is rated as difficult and be sure to dress appropriately for any weather conditions. Bring plenty of food and water. Payment is due at time of registration.
URL:https://tnfw.org/event/hidden-views-and-vistas-of-wintergreen-december-11-2024-2/
LOCATION:VA
CATEGORIES:Hike
ATTACH;FMTTYPE=image/jpeg:https://tnfw.org/wp-content/uploads/2024/09/snow-winter.jpg
END:VEVENT
BEGIN:VEVENT
DTSTART;TZID=America/New_York:20241120T090000
DTEND;TZID=America/New_York:20241120T120000
DTSTAMP:20260420T031354
CREATED:20240924T195329Z
LAST-MODIFIED:20240924T195329Z
UID:10000086-1732093200-1732104000@tnfw.org
SUMMARY:Salamander Search- November 20\, 2024
DESCRIPTION:Join TNFW staff member Josh Palumbo on a search for the many salamanders that call Wintergreen home. This easy hike will journey to the wet abodes these elusive creatures reside. The cool\, fall season is an ideal time to search for our slippery friends. The hike is rated moderate. Make sure to dress for any weather conditions. Payment is due at time of registration.
URL:https://tnfw.org/event/salamander-search-november-20-2024-2/
LOCATION:VA
CATEGORIES:Family Fun,Hike,Kids Activity
ATTACH;FMTTYPE=image/jpeg:https://tnfw.org/wp-content/uploads/2024/09/dusky.jpg
END:VEVENT
BEGIN:VEVENT
DTSTART;TZID=America/New_York:20241023T090000
DTEND;TZID=America/New_York:20241023T160000
DTSTAMP:20260420T031354
CREATED:20240925T162636Z
LAST-MODIFIED:20240925T162636Z
UID:10000090-1729674000-1729699200@tnfw.org
SUMMARY:Blue Ridge vs Ridge and Valley: Who has the Best Color?- October 23\,  2024
DESCRIPTION:Join TNFW staff member Josh Palumbo as we compare the fall colors from overlooks in different physiographic provinces. We will start the competition at a local overlook here in the Blue Ridge and end at High Knob Fire Tower along the West Virginia border. The explorations will cover roughly 5 miles and is rated moderate to difficult. Dress appropriately for any weather conditions and bring sufficient food and water. Payment is due at time of registration.
URL:https://tnfw.org/event/blue-ridge-vs-ridge-and-valley-who-has-the-best-color-october-23-2024/
LOCATION:VA
CATEGORIES:Hike
ATTACH;FMTTYPE=image/jpeg:https://tnfw.org/wp-content/uploads/2024/08/Priest-Fall-BRP.jpg
END:VEVENT
BEGIN:VEVENT
DTSTART;TZID=America/New_York:20240926T090000
DTEND;TZID=America/New_York:20240926T130000
DTSTAMP:20260420T031354
CREATED:20240626T142116Z
LAST-MODIFIED:20240924T175915Z
UID:10000050-1727341200-1727355600@tnfw.org
SUMMARY:Canceled! September 26\, 2024-Journey to High Places Hike
DESCRIPTION:Let’s strap up the boots and hit the trails! Join Kathie Driscoll for a local hike along the AT. We’ll start at Reed’s Gap and hike north to dripping rock for some great views\, and cool rock formations! Rated strenuous. Bring water and lunch. Wear hiking boots/shoes. Payment is due at time of registration.
URL:https://tnfw.org/event/hike-5/
LOCATION:The Nature Foundation at Wintergreen\, 3421 Wintergreen Dr\, Roseland\, VA\, 22967\, United States
CATEGORIES:Hike
ATTACH;FMTTYPE=image/jpeg:https://tnfw.org/wp-content/uploads/2024/06/loop-hike-4-25.jpg
ORGANIZER;CN="Kathie @ The Nature Foundation":MAILTO:youth@tnfw.org
END:VEVENT
BEGIN:VEVENT
DTSTART;TZID=America/New_York:20240905T090000
DTEND;TZID=America/New_York:20240905T150000
DTSTAMP:20260420T031354
CREATED:20240626T141916Z
LAST-MODIFIED:20240730T181015Z
UID:10000044-1725526800-1725548400@tnfw.org
SUMMARY:September 5\, 2024- Ladies Day Out Hike
DESCRIPTION:Time for another ladies day out\, so let’s hit the trails of Blackwater Creek. We’ll hike 5 miles on a trail\, once a railroad bed\, that transverses 300 acre greenspace along a tributary to the James River. After\, enjoy a bit of Lynchburg’s hospitality for lunch at The Farm Basket. Rated easy. Bring water\, money for lunch and a snack. Payment is due at time of registration.
URL:https://tnfw.org/event/hike-3/
LOCATION:The Nature Foundation at Wintergreen\, 3421 Wintergreen Dr\, Roseland\, VA\, 22967\, United States
CATEGORIES:Hike
ATTACH;FMTTYPE=image/jpeg:https://tnfw.org/wp-content/uploads/2024/06/ladies-hike-scaled.jpg
ORGANIZER;CN="Kathie @ The Nature Foundation":MAILTO:youth@tnfw.org
END:VEVENT
BEGIN:VEVENT
DTSTART;TZID=America/New_York:20240817T100000
DTEND;TZID=America/New_York:20240817T120000
DTSTAMP:20260420T031354
CREATED:20240626T141729Z
LAST-MODIFIED:20240626T141729Z
UID:10000041-1723888800-1723896000@tnfw.org
SUMMARY:Saturday Hike
DESCRIPTION:Join a Foundation Naturalist for an interpretive hike and explore Wintergreen’s natural environment! These hikes are rated moderate to strenuous. Meet at Trillium House parking loat. Paymnt due before even. FREE/Member\, $8/Non-Member.
URL:https://tnfw.org/event/saturday-hike-7/
LOCATION:VA
CATEGORIES:Hike
END:VEVENT
BEGIN:VEVENT
DTSTART;TZID=America/New_York:20240810T100000
DTEND;TZID=America/New_York:20240810T120000
DTSTAMP:20260420T031354
CREATED:20240626T141728Z
LAST-MODIFIED:20240626T141728Z
UID:10000040-1723284000-1723291200@tnfw.org
SUMMARY:Saturday Hike
DESCRIPTION:Join a Foundation Naturalist for an interpretive hike and explore Wintergreen’s natural environment! These hikes are rated moderate to strenuous. Meet at Trillium House parking loat. Paymnt due before even. FREE/Member\, $8/Non-Member.
URL:https://tnfw.org/event/saturday-hike-6/
LOCATION:VA
CATEGORIES:Hike
END:VEVENT
BEGIN:VEVENT
DTSTART;TZID=America/New_York:20240810T080000
DTEND;TZID=America/New_York:20240810T170000
DTSTAMP:20260420T031354
CREATED:20240730T150520Z
LAST-MODIFIED:20240730T150807Z
UID:10000052-1723276800-1723309200@tnfw.org
SUMMARY:Test event
DESCRIPTION:yadda yadda yadda
URL:https://tnfw.org/event/test-event/
LOCATION:The Nature Foundation at Wintergreen\, 3421 Wintergreen Dr\, Roseland\, VA\, 22967\, United States
CATEGORIES:Hike
ORGANIZER;CN="Kathie @ The Nature Foundation":MAILTO:youth@tnfw.org
END:VEVENT
BEGIN:VEVENT
DTSTART;TZID=America/New_York:20240807T090000
DTEND;TZID=America/New_York:20240807T120000
DTSTAMP:20260420T031354
CREATED:20240626T141715Z
LAST-MODIFIED:20240626T141715Z
UID:10000038-1723021200-1723032000@tnfw.org
SUMMARY:Hike
DESCRIPTION:Join Mary Jane Epps on an introductory tour into the world of mycology. The goal of this venture is to educate each hiker on the basics of mushroom identification. We will scour the Wintergreen landscape in search of the many varieties our ecosystem can produce. The hike is rated as moderate. Payment is due at time of registration. $8/Member\, $12/Non-Member.
URL:https://tnfw.org/event/hike-2/
LOCATION:VA
CATEGORIES:Hike
END:VEVENT
BEGIN:VEVENT
DTSTART;TZID=America/New_York:20240803T100000
DTEND;TZID=America/New_York:20240803T120000
DTSTAMP:20260420T031354
CREATED:20240626T141714Z
LAST-MODIFIED:20240626T141714Z
UID:10000037-1722679200-1722686400@tnfw.org
SUMMARY:Saturday Hike
DESCRIPTION:Join a Foundation Naturalist for an interpretive hike and explore Wintergreen’s natural environment! These hikes are rated moderate to strenuous. Meet at Trillium House parking loat. Paymnt due before even. FREE/Member\, $8/Non-Member.
URL:https://tnfw.org/event/saturday-hike-5/
LOCATION:VA
CATEGORIES:Hike
END:VEVENT
BEGIN:VEVENT
DTSTART;TZID=America/New_York:20240727T100000
DTEND;TZID=America/New_York:20240727T120000
DTSTAMP:20260420T031354
CREATED:20240626T141713Z
LAST-MODIFIED:20240626T141713Z
UID:10000035-1722074400-1722081600@tnfw.org
SUMMARY:Saturday Hike
DESCRIPTION:Join a Foundation Naturalist for an interpretive hike and explore Wintergreen’s natural environment! These hikes are rated moderate to strenuous. Meet at Trillium House parking loat. Paymnt due before even. FREE/Member\, $8/Non-Member.
URL:https://tnfw.org/event/saturday-hike-4/
LOCATION:VA
CATEGORIES:Hike
END:VEVENT
END:VCALENDAR