BEGIN:VCALENDAR
VERSION:2.0
PRODID:-//The Nature Foundation at Wintergreen - ECPv6.15.14//NONSGML v1.0//EN
CALSCALE:GREGORIAN
METHOD:PUBLISH
X-ORIGINAL-URL:https://tnfw.org
X-WR-CALDESC:Events for The Nature Foundation at Wintergreen
REFRESH-INTERVAL;VALUE=DURATION:PT1H
X-Robots-Tag:noindex
X-PUBLISHED-TTL:PT1H
BEGIN:VTIMEZONE
TZID:America/New_York
BEGIN:DAYLIGHT
TZOFFSETFROM:-0500
TZOFFSETTO:-0400
TZNAME:EDT
DTSTART:20230312T070000
END:DAYLIGHT
BEGIN:STANDARD
TZOFFSETFROM:-0400
TZOFFSETTO:-0500
TZNAME:EST
DTSTART:20231105T060000
END:STANDARD
BEGIN:DAYLIGHT
TZOFFSETFROM:-0500
TZOFFSETTO:-0400
TZNAME:EDT
DTSTART:20240310T070000
END:DAYLIGHT
BEGIN:STANDARD
TZOFFSETFROM:-0400
TZOFFSETTO:-0500
TZNAME:EST
DTSTART:20241103T060000
END:STANDARD
BEGIN:DAYLIGHT
TZOFFSETFROM:-0500
TZOFFSETTO:-0400
TZNAME:EDT
DTSTART:20250309T070000
END:DAYLIGHT
BEGIN:STANDARD
TZOFFSETFROM:-0400
TZOFFSETTO:-0500
TZNAME:EST
DTSTART:20251102T060000
END:STANDARD
BEGIN:DAYLIGHT
TZOFFSETFROM:-0500
TZOFFSETTO:-0400
TZNAME:EDT
DTSTART:20260308T070000
END:DAYLIGHT
BEGIN:STANDARD
TZOFFSETFROM:-0400
TZOFFSETTO:-0500
TZNAME:EST
DTSTART:20261101T060000
END:STANDARD
END:VTIMEZONE
BEGIN:VEVENT
DTSTART;TZID=America/New_York:20250919T093000
DTEND;TZID=America/New_York:20250919T173000
DTSTAMP:20260421T130510
CREATED:20250702T132736Z
LAST-MODIFIED:20250830T150338Z
UID:10000161-1758274200-1758303000@tnfw.org
SUMMARY:FULL!! September 19\, 2025  - Sara Ott Memorial Golf Classic
DESCRIPTION:Get ready for a day of fun\, friendly competition\, and spectacular mountain views at the 32nd Annual Sara Ott Memorial Golf Classic! \nJoin us for a tournament like no other—packed with camaraderie\, great golf\, exciting prizes\, and a few surprises along the way. Take your shot at winning a brand new car in our hole-in-one contests\, grab a treat from the roaming cart\, and loosen up with pre-tee off warm-up sessions. \nThis beloved annual event benefits The Nature Foundation at Wintergreen\, supporting our mission of conservation\, education\, and research. \nMark your calendar!📅 Tournament: Friday\, September 19\, 2025☔ Rain Date: Friday\, September 26\, 2025 \nSpots filled fast last year—don’t miss out!Register early and be part of a tradition the whole community looks forward to.
URL:https://tnfw.org/event/september-19-2025-sara-ott-memorial-golf-classic/
LOCATION:Stoney Creek Golf Course at Wintergreen\, 1354 Stoney Creek W.\, Nellysford\, VA\, 22958\, United States
CATEGORIES:Family Fun,Golf Classic
ATTACH;FMTTYPE=image/jpeg:https://tnfw.org/wp-content/uploads/2024/06/golf-2021-scaled.jpg
ORGANIZER;CN="Amanda @ The Nature Foundation":MAILTO:specialevents@tnfw.org
END:VEVENT
BEGIN:VEVENT
DTSTART;TZID=America/New_York:20250730T090000
DTEND;TZID=America/New_York:20250730T120000
DTSTAMP:20260421T130510
CREATED:20250525T182433Z
LAST-MODIFIED:20250710T141431Z
UID:10000144-1753866000-1753876800@tnfw.org
SUMMARY:Meet the Mushrooms- July 30\, 2025
DESCRIPTION:Join Mary Jane Epps on an introductory tour into the world of mycology. The goal of this venture is to educate each hiker on the basics of mushroom identification. We will scour the Wintergreen landscape in search of the many varieties our ecosystem can produce. The hike is rated as moderate. Payment is due at the time of registration.
URL:https://tnfw.org/event/meet-the-mushrooms-july-30-2025/
LOCATION:The Nature Foundation at Wintergreen\, 3421 Wintergreen Dr\, Roseland\, VA\, 22967\, United States
CATEGORIES:Family Fun,Hike,Kids Activity
ATTACH;FMTTYPE=image/jpeg:https://tnfw.org/wp-content/uploads/2025/05/mushrrom-hike.jpg
END:VEVENT
BEGIN:VEVENT
DTSTART;TZID=America/New_York:20250726T130000
DTEND;TZID=America/New_York:20250726T143000
DTSTAMP:20260421T130510
CREATED:20250525T182042Z
LAST-MODIFIED:20250725T223617Z
UID:10000143-1753534800-1753540200@tnfw.org
SUMMARY:Canceled! Wild Saturday: Snakes of Virginia! July 26\, 2025
DESCRIPTION:Think snakes are scary? Think again! Join Kathie Driscoll at TNFW for a fun\, family-friendly deep dive into the slithery\, surprisingly lovable world of Virginia’s snakes! Come learn who’s hiding in your backyard\, discover why snakes are nature’s unsung heroes and even touch a live snake! Payment is due at the time of registration. Registration deadline is Thursday\, July 24.
URL:https://tnfw.org/event/wild-saturday-snakes-of-virginia-july-26-2025/
LOCATION:VA
CATEGORIES:Family Fun,Kids Activity
ATTACH;FMTTYPE=image/jpeg:https://tnfw.org/wp-content/uploads/2025/05/UPCLOSE-SNAKE.jpg
END:VEVENT
BEGIN:VEVENT
DTSTART;TZID=America/New_York:20250725T200000
DTEND;TZID=America/New_York:20250725T213000
DTSTAMP:20260421T130510
CREATED:20250525T184552Z
LAST-MODIFIED:20250523T163047Z
UID:10000145-1753473600-1753479000@tnfw.org
SUMMARY:Star Party! - July 25\, 2025
DESCRIPTION:Who wants to party under a blanket of stars? Come join The Nature Foundation staff and local amateur astronomers as we pull out all the stops to give the whole family an up-close look at constellations\, planets and galaxies. You will be bedazzled with the views of the heavenly bodies through their high powered telescopes. We will meet at Wintergreen’s High Country Park. Paid registration in advance.
URL:https://tnfw.org/event/star-party-july-25-2025/
LOCATION:The Nature Foundation at Wintergreen\, 3421 Wintergreen Dr\, Roseland\, VA\, 22967\, United States
CATEGORIES:Family Fun
ATTACH;FMTTYPE=image/jpeg:https://tnfw.org/wp-content/uploads/2025/05/Star-Party.jpg
END:VEVENT
BEGIN:VEVENT
DTSTART;TZID=America/New_York:20250719T093000
DTEND;TZID=America/New_York:20250719T120000
DTSTAMP:20260421T130510
CREATED:20250525T175421Z
LAST-MODIFIED:20250703T143141Z
UID:10000142-1752917400-1752926400@tnfw.org
SUMMARY:Wild Saturday: Fishing Is Fun!-  July 19\, 2025
DESCRIPTION:Time to grab your poles because fishing is fun for children ages 6 through 12! Kids will learn basic fishing skills\, practice casting and catching fish at Wintergreen’s Black Walnut pond! All equipment is provided. Meet at Trillium House. Grown-ups are welcome to come along (fishing license required). Hats\, sunscreen and water recommended. Advanced registration due by July 12\, space is limited to 10 children. Payment is due at the time of registration.
URL:https://tnfw.org/event/wild-saturday-fishing-is-fun-july-19-2025/
LOCATION:VA
CATEGORIES:Family Fun,Kids Activity
ATTACH;FMTTYPE=image/jpeg:https://tnfw.org/wp-content/uploads/2025/05/fishing-fun.jpg
END:VEVENT
BEGIN:VEVENT
DTSTART;TZID=America/New_York:20250712T090000
DTEND;TZID=America/New_York:20250712T123000
DTSTAMP:20260421T130510
CREATED:20250525T173051Z
LAST-MODIFIED:20250523T164453Z
UID:10000141-1752310800-1752323400@tnfw.org
SUMMARY:Wild Ink Walk with local poet\, Amelia Williams- July 12\, 9am- 12:30pm
DESCRIPTION:Join Amelia L. Williams\, poet\, eco-artist\, and mindfulness practitioner for a morning contemplative walk and nature-inspired creativity. Experience the intersection of three awareness practices: mindfulness\, walking\, and creative expression. The focus of this walk will be to awaken the five senses. We will walk\, sit\, draw\, and write. You can use the prepared writing and drawing prompts or follow your muse.  No writing or drawing/art experience is necessary. For adults and teens willing to walk in mindful silence. We’ll open and close with a discussion circle. Bring a light snack\, water bottle\, pen and small notebook and/or drawing pad and colored pencils. Dress for the weather.  Payment is due at the time of registration.
URL:https://tnfw.org/event/wild-ink-walk-with-local-poet-amelia-williams-july-12-9am-1230pm/
LOCATION:The Nature Foundation at Wintergreen\, 3421 Wintergreen Dr\, Roseland\, VA\, 22967\, United States
CATEGORIES:Family Fun,workshop
ATTACH;FMTTYPE=image/jpeg:https://tnfw.org/wp-content/uploads/2025/05/wild-ink-1.jpg
END:VEVENT
BEGIN:VEVENT
DTSTART;TZID=America/New_York:20250705T140000
DTEND;TZID=America/New_York:20250705T160000
DTSTAMP:20260421T130510
CREATED:20250525T172505Z
LAST-MODIFIED:20250523T162406Z
UID:10000140-1751724000-1751731200@tnfw.org
SUMMARY:Wine Bottle Sparklers Workshop- July 5\, 2025
DESCRIPTION:Transform a simple wine bottle into a stunning decorative piece that will shine with sparkling beauty! In this hands-on workshop\, you’ll create your own wine bottle sparkler to add a touch of magic to your deck or garden. Ages: 5+ (Parental assistance required for children 12 and under). Payment is due at the time of registration. $25/Member\, $30/Non-Member.
URL:https://tnfw.org/event/wine-bottle-sparklers-workshop-july-5-2025/
LOCATION:The Nature Foundation at Wintergreen\, 3421 Wintergreen Dr\, Roseland\, VA\, 22967\, United States
CATEGORIES:Family Fun,Kids Activity,workshop
END:VEVENT
BEGIN:VEVENT
DTSTART;TZID=America/New_York:20250426T100000
DTEND;TZID=America/New_York:20250426T140000
DTSTAMP:20260421T130510
CREATED:20250309T224935Z
LAST-MODIFIED:20250309T224935Z
UID:10000130-1745661600-1745676000@tnfw.org
SUMMARY:Watercolor Trilliums Workshop- April 26\, 2025
DESCRIPTION:Let’s paint the beautiful native trillium\, known for its three petals and leaves\, and found in nutrient-rich woods\nand slopes. Designed for ages 12+ with basic watercolor experience\, this workshop explores lift-out and\nnegative painting techniques\, useful for both beginners and experienced artists. Email carolyn.velletri@verizon.\ncom at least one week prior for a supply list. If trillium is blooming\, we may take a short walk for photos—wear\ncomfortable shoes and bring a camera or phone! Bring your lunch. Payment is due at time of registration.
URL:https://tnfw.org/event/watercolor-trilliums-workshop-april-26-2025/
LOCATION:VA
CATEGORIES:Family Fun,Kids Activity,workshop
ATTACH;FMTTYPE=image/jpeg:https://tnfw.org/wp-content/uploads/2025/02/watercolor.jpg
ORGANIZER;CN="Kathie @ The Nature Foundation":MAILTO:youth@tnfw.org
END:VEVENT
BEGIN:VEVENT
DTSTART;TZID=America/New_York:20250328T193000
DTEND;TZID=America/New_York:20250328T213000
DTSTAMP:20260421T130510
CREATED:20241122T204201Z
LAST-MODIFIED:20250328T170213Z
UID:10000106-1743190200-1743197400@tnfw.org
SUMMARY:Spring Stargazing – March 28\, 2025
DESCRIPTION:There’s nothing like stargazing on a crisp\, spring evening to appreciate the universe in which we live! Join staff and the Charlottesville Astronomical Society as we experience our close celestial neighbors as well as deep space objects like galaxies\, star clusters\, and nebulae with CAS’s high powered EV scope. We will meet at High Country Park off of Blue Ridge Drive (behind Wintergarden Spa).
URL:https://tnfw.org/event/spring-stargazing-march-28-2025/
LOCATION:The Nature Foundation at Wintergreen\, 3421 Wintergreen Dr\, Roseland\, VA\, 22967\, United States
CATEGORIES:Family Fun
ATTACH;FMTTYPE=image/jpeg:https://tnfw.org/wp-content/uploads/2024/11/gage-star.jpg
END:VEVENT
BEGIN:VEVENT
DTSTART;TZID=America/New_York:20241228T130000
DTEND;TZID=America/New_York:20241228T150000
DTSTAMP:20260421T130510
CREATED:20241213T211025Z
LAST-MODIFIED:20241219T200005Z
UID:10000107-1735390800-1735398000@tnfw.org
SUMMARY:Holiday Week Activity- Festive Silk Scarf Workshop- December 28\, 2024
DESCRIPTION:Join Nancy Donnelly at this family holiday workshop where you will make nature themed designs on a scarf. For children ages 5 and up\, under 12 must be accompanied by an adult. \n 
URL:https://tnfw.org/event/holiday-week-activity-festive-silk-scarf-workshop-december-28-2024/
LOCATION:VA
CATEGORIES:Family Fun,Kids Activity,workshop
ATTACH;FMTTYPE=image/jpeg:https://tnfw.org/wp-content/uploads/2024/12/20241213_111515-scaled.jpg
ORGANIZER;CN="Kathie @ The Nature Foundation":MAILTO:youth@tnfw.org
END:VEVENT
BEGIN:VEVENT
DTSTART;TZID=America/New_York:20241214T130000
DTEND;TZID=America/New_York:20241214T150000
DTSTAMP:20260421T130510
CREATED:20240903T183051Z
LAST-MODIFIED:20241204T201609Z
UID:10000077-1734181200-1734188400@tnfw.org
SUMMARY:Canceled!!Holiday Open House- December 14\, 2024
DESCRIPTION:Stop in to enjoy some fresh baked cookies and hot cocoa while you browse Trillium House’s gift shoppe and learn more about TNFW! There will also be a goody-filled basket up for grabs! This event is free. Please register in advance so we don’t run out of sweet treats!
URL:https://tnfw.org/event/holiday-open-house-december-14-2024/
LOCATION:The Nature Foundation at Wintergreen\, 3421 Wintergreen Dr\, Roseland\, VA\, 22967\, United States
CATEGORIES:Family Fun
ATTACH;FMTTYPE=image/jpeg:https://tnfw.org/wp-content/uploads/2024/09/1Holiday-Open-House-Web.jpg
ORGANIZER;CN="Kathie @ The Nature Foundation":MAILTO:youth@tnfw.org
END:VEVENT
BEGIN:VEVENT
DTSTART;TZID=America/New_York:20241213T173000
DTEND;TZID=America/New_York:20241213T193000
DTSTAMP:20260421T130510
CREATED:20240924T200407Z
LAST-MODIFIED:20241204T203743Z
UID:10000088-1734111000-1734118200@tnfw.org
SUMMARY:A Murder At Green Mountain Resort Hotel (A dinner murder mystery)- December 13\, 2024
DESCRIPTION:A Murder At Green Mountain Resort Hotel [A dinner murder mystery by R. Morgan Armstrong]. Dine while characters try to solve the mystery of who killed Senator Archibald Payne. Was it his wife\, Candy Payne\, son\, Junior Payne\, or the senator’s driver/bodyguard\, Muscles Slickman? Other characters will provide clues as the evening draws to an end. The audience will be called upon to help solve this whodunnit\, or perhaps the dinner guest beside you will be discovered to be the actual killer! \nBring your favorite beverage and potluck dish to share\, while we enjoy an engaging evening filled with thrilling mysteries and a provided dessert. Space is limited and payment is required in advance.
URL:https://tnfw.org/event/murder-with-morgan-december-13-2024-2/
LOCATION:VA
CATEGORIES:Family Fun,Presentation
ATTACH;FMTTYPE=image/jpeg:https://tnfw.org/wp-content/uploads/2024/09/serving-of-deceit-cover.jpg
END:VEVENT
BEGIN:VEVENT
DTSTART;TZID=America/New_York:20241120T090000
DTEND;TZID=America/New_York:20241120T120000
DTSTAMP:20260421T130510
CREATED:20240924T195329Z
LAST-MODIFIED:20240924T195329Z
UID:10000086-1732093200-1732104000@tnfw.org
SUMMARY:Salamander Search- November 20\, 2024
DESCRIPTION:Join TNFW staff member Josh Palumbo on a search for the many salamanders that call Wintergreen home. This easy hike will journey to the wet abodes these elusive creatures reside. The cool\, fall season is an ideal time to search for our slippery friends. The hike is rated moderate. Make sure to dress for any weather conditions. Payment is due at time of registration.
URL:https://tnfw.org/event/salamander-search-november-20-2024-2/
LOCATION:VA
CATEGORIES:Family Fun,Hike,Kids Activity
ATTACH;FMTTYPE=image/jpeg:https://tnfw.org/wp-content/uploads/2024/09/dusky.jpg
END:VEVENT
BEGIN:VEVENT
DTSTART;TZID=America/New_York:20241019T140000
DTEND;TZID=America/New_York:20241019T153000
DTSTAMP:20260421T130510
CREATED:20240824T194836Z
LAST-MODIFIED:20241018T200554Z
UID:10000062-1729346400-1729351800@tnfw.org
SUMMARY:Canceled!- Hand Painted Pumpkins Workshop- October 19\, 2024
DESCRIPTION:Halloween is around the corner! So let’s turn your Jack O’Latern into a cool pumpkin with Nancy Donnelly-Walters at this one- of- kind pumpkin painting workshop. Ages 6 and up.  Children 12 and under must be accompanied by an adult. Pumpkin provided. Payment is due at time of registration.
URL:https://tnfw.org/event/hand-painted-pumpkins-workshop-october-19-2024/
LOCATION:The Nature Foundation at Wintergreen\, 3421 Wintergreen Dr\, Roseland\, VA\, 22967\, United States
CATEGORIES:Family Fun,Kids Activity,workshop
ATTACH;FMTTYPE=image/jpeg:https://tnfw.org/wp-content/uploads/2024/08/pumpkin2.jpg
ORGANIZER;CN="Kathie @ The Nature Foundation":MAILTO:youth@tnfw.org
END:VEVENT
BEGIN:VEVENT
DTSTART;TZID=America/New_York:20240727T093000
DTEND;TZID=America/New_York:20240727T120000
DTSTAMP:20260421T130510
CREATED:20240626T141712Z
LAST-MODIFIED:20240626T141712Z
UID:10000034-1722072600-1722081600@tnfw.org
SUMMARY:Fishing Clinic
DESCRIPTION:Time to grab your poles because fishing is fun for children ages 6 through 15! Kids will learn basic fishing skills\, practiece casting and catch fish at Wintergreen’s Black Walnut pond! All eqipment is provided. Meet at Trillium House. Grown-ups are welcome to come along (fishing license required). Hats and sunscreen recommended. Advanced registration due by July 20\, space is limited to 10 children. $10/Member\, $20/Non-Member.
URL:https://tnfw.org/event/fishing-clinic/
LOCATION:VA
CATEGORIES:Family Fun
END:VEVENT
BEGIN:VEVENT
DTSTART;TZID=America/New_York:20240706T140000
DTEND;TZID=America/New_York:20240706T160000
DTSTAMP:20260421T130510
CREATED:20240626T141652Z
LAST-MODIFIED:20240626T141652Z
UID:10000026-1720274400-1720281600@tnfw.org
SUMMARY:Nature Crafts
DESCRIPTION:Nancy Donnelly- Walters is back! Join Nancy in constructing and painting a colorful bottle hummingbird feeder. Ages 6 and up. Children 12 and under must be accompanies by an adult. Payment is due at time of registration. $20/Member\, $25/Non-Member.
URL:https://tnfw.org/event/nature-crafts/
LOCATION:VA
CATEGORIES:Family Fun
END:VEVENT
END:VCALENDAR