BEGIN:VCALENDAR
VERSION:2.0
PRODID:-//The Nature Foundation at Wintergreen - ECPv6.15.14//NONSGML v1.0//EN
CALSCALE:GREGORIAN
METHOD:PUBLISH
X-WR-CALNAME:The Nature Foundation at Wintergreen
X-ORIGINAL-URL:https://tnfw.org
X-WR-CALDESC:Events for The Nature Foundation at Wintergreen
REFRESH-INTERVAL;VALUE=DURATION:PT1H
X-Robots-Tag:noindex
X-PUBLISHED-TTL:PT1H
BEGIN:VTIMEZONE
TZID:America/New_York
BEGIN:DAYLIGHT
TZOFFSETFROM:-0500
TZOFFSETTO:-0400
TZNAME:EDT
DTSTART:20240310T070000
END:DAYLIGHT
BEGIN:STANDARD
TZOFFSETFROM:-0400
TZOFFSETTO:-0500
TZNAME:EST
DTSTART:20241103T060000
END:STANDARD
BEGIN:DAYLIGHT
TZOFFSETFROM:-0500
TZOFFSETTO:-0400
TZNAME:EDT
DTSTART:20250309T070000
END:DAYLIGHT
BEGIN:STANDARD
TZOFFSETFROM:-0400
TZOFFSETTO:-0500
TZNAME:EST
DTSTART:20251102T060000
END:STANDARD
BEGIN:DAYLIGHT
TZOFFSETFROM:-0500
TZOFFSETTO:-0400
TZNAME:EDT
DTSTART:20260308T070000
END:DAYLIGHT
BEGIN:STANDARD
TZOFFSETFROM:-0400
TZOFFSETTO:-0500
TZNAME:EST
DTSTART:20261101T060000
END:STANDARD
END:VTIMEZONE
BEGIN:VEVENT
DTSTART;TZID=America/New_York:20250919T093000
DTEND;TZID=America/New_York:20250919T173000
DTSTAMP:20260421T212432
CREATED:20250702T132736Z
LAST-MODIFIED:20250830T150338Z
UID:10000161-1758274200-1758303000@tnfw.org
SUMMARY:FULL!! September 19\, 2025  - Sara Ott Memorial Golf Classic
DESCRIPTION:Get ready for a day of fun\, friendly competition\, and spectacular mountain views at the 32nd Annual Sara Ott Memorial Golf Classic! \nJoin us for a tournament like no other—packed with camaraderie\, great golf\, exciting prizes\, and a few surprises along the way. Take your shot at winning a brand new car in our hole-in-one contests\, grab a treat from the roaming cart\, and loosen up with pre-tee off warm-up sessions. \nThis beloved annual event benefits The Nature Foundation at Wintergreen\, supporting our mission of conservation\, education\, and research. \nMark your calendar!📅 Tournament: Friday\, September 19\, 2025☔ Rain Date: Friday\, September 26\, 2025 \nSpots filled fast last year—don’t miss out!Register early and be part of a tradition the whole community looks forward to.
URL:https://tnfw.org/event/september-19-2025-sara-ott-memorial-golf-classic/
LOCATION:Stoney Creek Golf Course at Wintergreen\, 1354 Stoney Creek W.\, Nellysford\, VA\, 22958\, United States
CATEGORIES:Family Fun,Golf Classic
ATTACH;FMTTYPE=image/jpeg:https://tnfw.org/wp-content/uploads/2024/06/golf-2021-scaled.jpg
ORGANIZER;CN="Amanda @ The Nature Foundation":MAILTO:specialevents@tnfw.org
END:VEVENT
END:VCALENDAR