BEGIN:VCALENDAR
VERSION:2.0
PRODID:-//The Nature Foundation at Wintergreen - ECPv6.15.14//NONSGML v1.0//EN
CALSCALE:GREGORIAN
METHOD:PUBLISH
X-ORIGINAL-URL:https://tnfw.org
X-WR-CALDESC:Events for The Nature Foundation at Wintergreen
REFRESH-INTERVAL;VALUE=DURATION:PT1H
X-Robots-Tag:noindex
X-PUBLISHED-TTL:PT1H
BEGIN:VTIMEZONE
TZID:America/New_York
BEGIN:DAYLIGHT
TZOFFSETFROM:-0500
TZOFFSETTO:-0400
TZNAME:EDT
DTSTART:20250309T070000
END:DAYLIGHT
BEGIN:STANDARD
TZOFFSETFROM:-0400
TZOFFSETTO:-0500
TZNAME:EST
DTSTART:20251102T060000
END:STANDARD
BEGIN:DAYLIGHT
TZOFFSETFROM:-0500
TZOFFSETTO:-0400
TZNAME:EDT
DTSTART:20260308T070000
END:DAYLIGHT
BEGIN:STANDARD
TZOFFSETFROM:-0400
TZOFFSETTO:-0500
TZNAME:EST
DTSTART:20261101T060000
END:STANDARD
BEGIN:DAYLIGHT
TZOFFSETFROM:-0500
TZOFFSETTO:-0400
TZNAME:EDT
DTSTART:20270314T070000
END:DAYLIGHT
BEGIN:STANDARD
TZOFFSETFROM:-0400
TZOFFSETTO:-0500
TZNAME:EST
DTSTART:20271107T060000
END:STANDARD
END:VTIMEZONE
BEGIN:VEVENT
DTSTART;TZID=America/New_York:20260116T190000
DTEND;TZID=America/New_York:20260116T210000
DTSTAMP:20260422T050125
CREATED:20251130T170059Z
LAST-MODIFIED:20251201T005023Z
UID:10000187-1768590000-1768597200@tnfw.org
SUMMARY:Winter Lecture Series: Seeing Nature From Above- Remote Sensing Technology For Conservation- January 16\, 2026
DESCRIPTION:Discover how scientists use satellite imagery and drone technology to better understand and protect\nour planet. Dr. Sapana Lohani\, a Geospatial Environmental Scientist at William & Mary’s Institute for\nIntegrative Conservation\, will share her research on the Mekong River Basin\, where she studied how\nrapid deforestation transformed the landscape across four countries.\nLearn how remote sensing helps reveal patterns of environmental change and supports global\nconservation efforts. Refreshments provided. Payment is due at time of registration. $10/Member\, $15/\nNon-Member.
URL:https://tnfw.org/event/winter-lecture-series-seeing-nature-from-above-remote-sensing-technology-for-conservation-january-16-2026/
LOCATION:The Nature Foundation at Wintergreen\, 3421 Wintergreen Dr\, Roseland\, VA\, 22967\, United States
CATEGORIES:Lecture,Presentation
ATTACH;FMTTYPE=image/jpeg:https://tnfw.org/wp-content/uploads/2025/11/landsat_rmnp_05oct1999_lrg-scaled.jpg
END:VEVENT
END:VCALENDAR