BEGIN:VCALENDAR
VERSION:2.0
PRODID:-//The Nature Foundation at Wintergreen - ECPv6.15.14//NONSGML v1.0//EN
CALSCALE:GREGORIAN
METHOD:PUBLISH
X-ORIGINAL-URL:https://tnfw.org
X-WR-CALDESC:Events for The Nature Foundation at Wintergreen
REFRESH-INTERVAL;VALUE=DURATION:PT1H
X-Robots-Tag:noindex
X-PUBLISHED-TTL:PT1H
BEGIN:VTIMEZONE
TZID:America/New_York
BEGIN:DAYLIGHT
TZOFFSETFROM:-0500
TZOFFSETTO:-0400
TZNAME:EDT
DTSTART:20240310T070000
END:DAYLIGHT
BEGIN:STANDARD
TZOFFSETFROM:-0400
TZOFFSETTO:-0500
TZNAME:EST
DTSTART:20241103T060000
END:STANDARD
BEGIN:DAYLIGHT
TZOFFSETFROM:-0500
TZOFFSETTO:-0400
TZNAME:EDT
DTSTART:20250309T070000
END:DAYLIGHT
BEGIN:STANDARD
TZOFFSETFROM:-0400
TZOFFSETTO:-0500
TZNAME:EST
DTSTART:20251102T060000
END:STANDARD
BEGIN:DAYLIGHT
TZOFFSETFROM:-0500
TZOFFSETTO:-0400
TZNAME:EDT
DTSTART:20260308T070000
END:DAYLIGHT
BEGIN:STANDARD
TZOFFSETFROM:-0400
TZOFFSETTO:-0500
TZNAME:EST
DTSTART:20261101T060000
END:STANDARD
END:VTIMEZONE
BEGIN:VEVENT
DTSTART;TZID=America/New_York:20251022T090000
DTEND;TZID=America/New_York:20251022T160000
DTSTAMP:20260421T145821
CREATED:20250826T184238Z
LAST-MODIFIED:20250910T200343Z
UID:10000170-1761123600-1761148800@tnfw.org
SUMMARY:The Balds of Cole Mountain -  October 22\, 2025
DESCRIPTION:Join Josh Palumbo as we climb Cole Mountain to explore its alpine-like grassy balds. The hike to this peak along the Appalachian Trail is like few others in central Virginia. Do not miss the opportunity to see this unique ecosystem while experiencing 360-degree panoramic views. This 5.7-mile circuit hike is rated as moderate. Please bring plenty of food and water. Payment is due at time of registration. $10/Member\, $15/Non-Member.
URL:https://tnfw.org/event/the-balds-of-cole-mountain-october-22-2025/
LOCATION:The Nature Foundation at Wintergreen\, 3421 Wintergreen Dr\, Roseland\, VA\, 22967\, United States
CATEGORIES:Hike
ATTACH;FMTTYPE=image/jpeg:https://tnfw.org/wp-content/uploads/2025/05/Furnace-Mountain-Summit-Views-Feature-800x445-1.jpg
END:VEVENT
END:VCALENDAR