BEGIN:VCALENDAR
VERSION:2.0
PRODID:-//The Nature Foundation at Wintergreen - ECPv6.15.14//NONSGML v1.0//EN
CALSCALE:GREGORIAN
METHOD:PUBLISH
X-ORIGINAL-URL:https://tnfw.org
X-WR-CALDESC:Events for The Nature Foundation at Wintergreen
REFRESH-INTERVAL;VALUE=DURATION:PT1H
X-Robots-Tag:noindex
X-PUBLISHED-TTL:PT1H
BEGIN:VTIMEZONE
TZID:America/New_York
BEGIN:DAYLIGHT
TZOFFSETFROM:-0500
TZOFFSETTO:-0400
TZNAME:EDT
DTSTART:20240310T070000
END:DAYLIGHT
BEGIN:STANDARD
TZOFFSETFROM:-0400
TZOFFSETTO:-0500
TZNAME:EST
DTSTART:20241103T060000
END:STANDARD
BEGIN:DAYLIGHT
TZOFFSETFROM:-0500
TZOFFSETTO:-0400
TZNAME:EDT
DTSTART:20250309T070000
END:DAYLIGHT
BEGIN:STANDARD
TZOFFSETFROM:-0400
TZOFFSETTO:-0500
TZNAME:EST
DTSTART:20251102T060000
END:STANDARD
BEGIN:DAYLIGHT
TZOFFSETFROM:-0500
TZOFFSETTO:-0400
TZNAME:EDT
DTSTART:20260308T070000
END:DAYLIGHT
BEGIN:STANDARD
TZOFFSETFROM:-0400
TZOFFSETTO:-0500
TZNAME:EST
DTSTART:20261101T060000
END:STANDARD
END:VTIMEZONE
BEGIN:VEVENT
DTSTART;TZID=America/New_York:20250628T100000
DTEND;TZID=America/New_York:20250628T120000
DTSTAMP:20260421T111426
CREATED:20250226T231237Z
LAST-MODIFIED:20250522T193852Z
UID:10000127-1751104800-1751112000@tnfw.org
SUMMARY:   Canceled!!! Living with Nature at Wintergreen- June 28\, 2025
DESCRIPTION:Join a Foundation Naturalist for an interpretive hike and explore Wintergreen’s natural environment! These hikes are rated moderate to strenuous. Meet at Trillium House. Payment due before the event
URL:https://tnfw.org/event/living-with-nature-at-wintergreen-june-28-2025/
CATEGORIES:Hikes,Living with Nature at Wintergreen Hike
ATTACH;FMTTYPE=image/jpeg:https://tnfw.org/wp-content/uploads/2025/02/summer-hikes.jpg
ORGANIZER;CN="Kathie @ The Nature Foundation":MAILTO:youth@tnfw.org
END:VEVENT
BEGIN:VEVENT
DTSTART;TZID=America/New_York:20250628T120000
DTEND;TZID=America/New_York:20250628T153000
DTSTAMP:20260421T111426
CREATED:20250425T150156Z
LAST-MODIFIED:20250527T190145Z
UID:10000133-1751112000-1751124600@tnfw.org
SUMMARY:Keeping the Promise - Crawford's Knob Celebration
DESCRIPTION:Join us for the Crawford’s Knob Celebration\, a heartfelt gathering to honor the preservation of this cherished natural landmark. The event will feature a dedication ceremony and ribbon cutting\, marking a new chapter in the stewardship of this remarkable landscape. Following the ceremony\, enjoy light refreshments\, engaging guest speakers\, and a toast to Doug Coleman’s legacy—a tribute to his visionary leadership and unwavering dedication to conservation. Come celebrate community\, conservation\, and the lasting impact of a true environmental champion. \nSpecial Guests to Include:*L.F. Payne – Former U.S. Congressman and President of Wintergreen Development*Creigh Deeds – Member of the Virginia Senate*Leaders from the Commonwealth’s Department of Natural Resources*Lead Scientists from the Smithsonian Institution*Lead Scientists from regional colleges and universities
URL:https://tnfw.org/event/keeping-the-promise-crawfords-knob-celebration/
LOCATION:Blue Ridge Terrace\, 39 Mountain Inn Loop\, Wintergreen\, VA\, 22958\, United States
ATTACH;FMTTYPE=image/png:https://tnfw.org/wp-content/uploads/2023/05/e5288bb456eb49e90ffa14263d34fee77b827bd4.png
ORGANIZER;CN="Amanda @ The Nature Foundation":MAILTO:specialevents@tnfw.org
END:VEVENT
END:VCALENDAR