BEGIN:VCALENDAR
VERSION:2.0
PRODID:-//The Nature Foundation at Wintergreen - ECPv6.15.14//NONSGML v1.0//EN
CALSCALE:GREGORIAN
METHOD:PUBLISH
X-WR-CALNAME:The Nature Foundation at Wintergreen
X-ORIGINAL-URL:https://tnfw.org
X-WR-CALDESC:Events for The Nature Foundation at Wintergreen
REFRESH-INTERVAL;VALUE=DURATION:PT1H
X-Robots-Tag:noindex
X-PUBLISHED-TTL:PT1H
BEGIN:VTIMEZONE
TZID:America/New_York
BEGIN:DAYLIGHT
TZOFFSETFROM:-0500
TZOFFSETTO:-0400
TZNAME:EDT
DTSTART:20240310T070000
END:DAYLIGHT
BEGIN:STANDARD
TZOFFSETFROM:-0400
TZOFFSETTO:-0500
TZNAME:EST
DTSTART:20241103T060000
END:STANDARD
BEGIN:DAYLIGHT
TZOFFSETFROM:-0500
TZOFFSETTO:-0400
TZNAME:EDT
DTSTART:20250309T070000
END:DAYLIGHT
BEGIN:STANDARD
TZOFFSETFROM:-0400
TZOFFSETTO:-0500
TZNAME:EST
DTSTART:20251102T060000
END:STANDARD
BEGIN:DAYLIGHT
TZOFFSETFROM:-0500
TZOFFSETTO:-0400
TZNAME:EDT
DTSTART:20260308T070000
END:DAYLIGHT
BEGIN:STANDARD
TZOFFSETFROM:-0400
TZOFFSETTO:-0500
TZNAME:EST
DTSTART:20261101T060000
END:STANDARD
END:VTIMEZONE
BEGIN:VEVENT
DTSTART;TZID=America/New_York:20250712T090000
DTEND;TZID=America/New_York:20250712T123000
DTSTAMP:20260421T094722
CREATED:20250525T173051Z
LAST-MODIFIED:20250523T164453Z
UID:32440-1752310800-1752323400@tnfw.org
SUMMARY:Wild Ink Walk with local poet\, Amelia Williams- July 12\, 9am- 12:30pm
DESCRIPTION:Join Amelia L. Williams\, poet\, eco-artist\, and mindfulness practitioner for a morning contemplative walk and nature-inspired creativity. Experience the intersection of three awareness practices: mindfulness\, walking\, and creative expression. The focus of this walk will be to awaken the five senses. We will walk\, sit\, draw\, and write. You can use the prepared writing and drawing prompts or follow your muse.  No writing or drawing/art experience is necessary. For adults and teens willing to walk in mindful silence. We’ll open and close with a discussion circle. Bring a light snack\, water bottle\, pen and small notebook and/or drawing pad and colored pencils. Dress for the weather.  Payment is due at the time of registration.
URL:https://tnfw.org/event/wild-ink-walk-with-local-poet-amelia-williams-july-12-9am-1230pm/
LOCATION:The Nature Foundation at Wintergreen\, 3421 Wintergreen Dr\, Roseland\, VA\, 22967\, United States
CATEGORIES:Family Fun,workshop
ATTACH;FMTTYPE=image/jpeg:https://tnfw.org/wp-content/uploads/2025/05/wild-ink-1.jpg
END:VEVENT
END:VCALENDAR