BEGIN:VCALENDAR
VERSION:2.0
PRODID:-//The Nature Foundation at Wintergreen - ECPv6.15.14//NONSGML v1.0//EN
CALSCALE:GREGORIAN
METHOD:PUBLISH
X-WR-CALNAME:The Nature Foundation at Wintergreen
X-ORIGINAL-URL:https://tnfw.org
X-WR-CALDESC:Events for The Nature Foundation at Wintergreen
REFRESH-INTERVAL;VALUE=DURATION:PT1H
X-Robots-Tag:noindex
X-PUBLISHED-TTL:PT1H
BEGIN:VTIMEZONE
TZID:America/New_York
BEGIN:DAYLIGHT
TZOFFSETFROM:-0500
TZOFFSETTO:-0400
TZNAME:EDT
DTSTART:20240310T070000
END:DAYLIGHT
BEGIN:STANDARD
TZOFFSETFROM:-0400
TZOFFSETTO:-0500
TZNAME:EST
DTSTART:20241103T060000
END:STANDARD
BEGIN:DAYLIGHT
TZOFFSETFROM:-0500
TZOFFSETTO:-0400
TZNAME:EDT
DTSTART:20250309T070000
END:DAYLIGHT
BEGIN:STANDARD
TZOFFSETFROM:-0400
TZOFFSETTO:-0500
TZNAME:EST
DTSTART:20251102T060000
END:STANDARD
BEGIN:DAYLIGHT
TZOFFSETFROM:-0500
TZOFFSETTO:-0400
TZNAME:EDT
DTSTART:20260308T070000
END:DAYLIGHT
BEGIN:STANDARD
TZOFFSETFROM:-0400
TZOFFSETTO:-0500
TZNAME:EST
DTSTART:20261101T060000
END:STANDARD
END:VTIMEZONE
BEGIN:VEVENT
DTSTART;TZID=America/New_York:20250613T173000
DTEND;TZID=America/New_York:20250613T193000
DTSTAMP:20260421T132428
CREATED:20250226T233457Z
LAST-MODIFIED:20250613T190621Z
UID:31648-1749835800-1749843000@tnfw.org
SUMMARY:FULL!- Murder with Morgan- June 13\, 2025
DESCRIPTION:Join us for an evening of intrigue and murder at the Trillium House\, featuring local author Morgan Armstrong and his latest suspenseful mystery\, “A Murder at Cubley’s Coze.” Bring your favorite beverage and a potluck dish to share while we enjoy an engaging evening figuring out “whodunit”. Dessert will be provided. Space is limited and payment is required in advance.
URL:https://tnfw.org/event/murder-with-morgan-june-13-2025/
CATEGORIES:Presentation
ATTACH;FMTTYPE=image/jpeg:https://tnfw.org/wp-content/uploads/2024/09/serving-of-deceit-cover.jpg
ORGANIZER;CN="Kathie @ The Nature Foundation":MAILTO:youth@tnfw.org
END:VEVENT
END:VCALENDAR