BEGIN:VCALENDAR
VERSION:2.0
PRODID:-//The Nature Foundation at Wintergreen - ECPv6.15.14//NONSGML v1.0//EN
CALSCALE:GREGORIAN
METHOD:PUBLISH
X-WR-CALNAME:The Nature Foundation at Wintergreen
X-ORIGINAL-URL:https://tnfw.org
X-WR-CALDESC:Events for The Nature Foundation at Wintergreen
REFRESH-INTERVAL;VALUE=DURATION:PT1H
X-Robots-Tag:noindex
X-PUBLISHED-TTL:PT1H
BEGIN:VTIMEZONE
TZID:America/New_York
BEGIN:DAYLIGHT
TZOFFSETFROM:-0500
TZOFFSETTO:-0400
TZNAME:EDT
DTSTART:20240310T070000
END:DAYLIGHT
BEGIN:STANDARD
TZOFFSETFROM:-0400
TZOFFSETTO:-0500
TZNAME:EST
DTSTART:20241103T060000
END:STANDARD
BEGIN:DAYLIGHT
TZOFFSETFROM:-0500
TZOFFSETTO:-0400
TZNAME:EDT
DTSTART:20250309T070000
END:DAYLIGHT
BEGIN:STANDARD
TZOFFSETFROM:-0400
TZOFFSETTO:-0500
TZNAME:EST
DTSTART:20251102T060000
END:STANDARD
BEGIN:DAYLIGHT
TZOFFSETFROM:-0500
TZOFFSETTO:-0400
TZNAME:EDT
DTSTART:20260308T070000
END:DAYLIGHT
BEGIN:STANDARD
TZOFFSETFROM:-0400
TZOFFSETTO:-0500
TZNAME:EST
DTSTART:20261101T060000
END:STANDARD
END:VTIMEZONE
BEGIN:VEVENT
DTSTART;TZID=America/New_York:20251004T090000
DTEND;TZID=America/New_York:20251004T130000
DTSTAMP:20260421T131346
CREATED:20250826T190019Z
LAST-MODIFIED:20250916T213439Z
UID:33091-1759568400-1759582800@tnfw.org
SUMMARY:Last Plant Sale of Season - October 4\, 2025
DESCRIPTION:Last Plant Sale of the Season- October 4\, 9am- 1pm\nTNFW’s native plant sale will be held at the greenhouse at 725 Beech Grove Rd\, Roseland\, VA 22967. There will be members of the Plant Propagation committee on hand to answer questions.
URL:https://tnfw.org/event/last-plant-sale-of-season-october-4-2025/
CATEGORIES:Sale
ATTACH;FMTTYPE=image/jpeg:https://tnfw.org/wp-content/uploads/2025/08/BF-garden-1.jpg
END:VEVENT
END:VCALENDAR