BEGIN:VCALENDAR
VERSION:2.0
PRODID:-//The Nature Foundation at Wintergreen - ECPv6.15.14//NONSGML v1.0//EN
CALSCALE:GREGORIAN
METHOD:PUBLISH
X-WR-CALNAME:The Nature Foundation at Wintergreen
X-ORIGINAL-URL:https://tnfw.org
X-WR-CALDESC:Events for The Nature Foundation at Wintergreen
REFRESH-INTERVAL;VALUE=DURATION:PT1H
X-Robots-Tag:noindex
X-PUBLISHED-TTL:PT1H
BEGIN:VTIMEZONE
TZID:America/New_York
BEGIN:DAYLIGHT
TZOFFSETFROM:-0500
TZOFFSETTO:-0400
TZNAME:EDT
DTSTART:20240310T070000
END:DAYLIGHT
BEGIN:STANDARD
TZOFFSETFROM:-0400
TZOFFSETTO:-0500
TZNAME:EST
DTSTART:20241103T060000
END:STANDARD
BEGIN:DAYLIGHT
TZOFFSETFROM:-0500
TZOFFSETTO:-0400
TZNAME:EDT
DTSTART:20250309T070000
END:DAYLIGHT
BEGIN:STANDARD
TZOFFSETFROM:-0400
TZOFFSETTO:-0500
TZNAME:EST
DTSTART:20251102T060000
END:STANDARD
BEGIN:DAYLIGHT
TZOFFSETFROM:-0500
TZOFFSETTO:-0400
TZNAME:EDT
DTSTART:20260308T070000
END:DAYLIGHT
BEGIN:STANDARD
TZOFFSETFROM:-0400
TZOFFSETTO:-0500
TZNAME:EST
DTSTART:20261101T060000
END:STANDARD
END:VTIMEZONE
BEGIN:VEVENT
DTSTART;TZID=America/New_York:20250403T090000
DTEND;TZID=America/New_York:20250403T150000
DTSTAMP:20260421T145945
CREATED:20250226T235809Z
LAST-MODIFIED:20250327T195320Z
UID:31553-1743670800-1743692400@tnfw.org
SUMMARY:Ladies Day Out Hike - April 3\, 2025
DESCRIPTION:Let’s welcome spring with Lena Kroll\, Certified Master Naturalist and Preserve Steward for the Nature Conservancy’s Fortune’s Cove trail. As a trail Steward\, Lena hikes Fortune’s Cove throughout the year\, assessing the trail and performing basic trail maintenance. Join us as we explore a 4.1-mile loop trail where it’s rare to encounter others\, but is a great hike to view spring ephemerals\, as well as native and invasive species.  Rated moderate. Bring water\, lunch and a snack. Payment is due at time of registration.
URL:https://tnfw.org/event/ladies-day-out-hike-april-3-2025/
CATEGORIES:Hike
ATTACH;FMTTYPE=image/jpeg:https://tnfw.org/wp-content/uploads/2025/02/fortune-s-cove-preserve.jpg
ORGANIZER;CN="Kathie @ The Nature Foundation":MAILTO:youth@tnfw.org
END:VEVENT
END:VCALENDAR