BEGIN:VCALENDAR
VERSION:2.0
PRODID:-//The Nature Foundation at Wintergreen - ECPv6.15.14//NONSGML v1.0//EN
CALSCALE:GREGORIAN
METHOD:PUBLISH
X-WR-CALNAME:The Nature Foundation at Wintergreen
X-ORIGINAL-URL:https://tnfw.org
X-WR-CALDESC:Events for The Nature Foundation at Wintergreen
REFRESH-INTERVAL;VALUE=DURATION:PT1H
X-Robots-Tag:noindex
X-PUBLISHED-TTL:PT1H
BEGIN:VTIMEZONE
TZID:America/New_York
BEGIN:DAYLIGHT
TZOFFSETFROM:-0500
TZOFFSETTO:-0400
TZNAME:EDT
DTSTART:20240310T070000
END:DAYLIGHT
BEGIN:STANDARD
TZOFFSETFROM:-0400
TZOFFSETTO:-0500
TZNAME:EST
DTSTART:20241103T060000
END:STANDARD
BEGIN:DAYLIGHT
TZOFFSETFROM:-0500
TZOFFSETTO:-0400
TZNAME:EDT
DTSTART:20250309T070000
END:DAYLIGHT
BEGIN:STANDARD
TZOFFSETFROM:-0400
TZOFFSETTO:-0500
TZNAME:EST
DTSTART:20251102T060000
END:STANDARD
BEGIN:DAYLIGHT
TZOFFSETFROM:-0500
TZOFFSETTO:-0400
TZNAME:EDT
DTSTART:20260308T070000
END:DAYLIGHT
BEGIN:STANDARD
TZOFFSETFROM:-0400
TZOFFSETTO:-0500
TZNAME:EST
DTSTART:20261101T060000
END:STANDARD
END:VTIMEZONE
BEGIN:VEVENT
DTSTART;TZID=America/New_York:20250507T080000
DTEND;TZID=America/New_York:20250507T170000
DTSTAMP:20260421T130217
CREATED:20250226T232111Z
LAST-MODIFIED:20250306T184414Z
UID:31616-1746604800-1746637200@tnfw.org
SUMMARY:Hike up the House- May 7\, 2025
DESCRIPTION:Come spend a day with Josh Palumbo as we journey west to House Mountain. This monolith sits isolated from other peaks just west of Lexington and offers grand views to the south. This approximately 9 mile trek will take adventurous hikers past old homesteads\, up steep mountain faces and onto great overlooks. This hike is rated as difficult with numerous vertical climbs. Bring plenty of food and water!
URL:https://tnfw.org/event/hike-up-the-house-may-7-2025/
CATEGORIES:Hike
ATTACH;FMTTYPE=image/jpeg:https://tnfw.org/wp-content/uploads/2025/02/big-house.jpg
ORGANIZER;CN="Kathie @ The Nature Foundation":MAILTO:youth@tnfw.org
END:VEVENT
END:VCALENDAR