BEGIN:VCALENDAR
VERSION:2.0
PRODID:-//The Nature Foundation at Wintergreen - ECPv6.15.14//NONSGML v1.0//EN
CALSCALE:GREGORIAN
METHOD:PUBLISH
X-WR-CALNAME:The Nature Foundation at Wintergreen
X-ORIGINAL-URL:https://tnfw.org
X-WR-CALDESC:Events for The Nature Foundation at Wintergreen
REFRESH-INTERVAL;VALUE=DURATION:PT1H
X-Robots-Tag:noindex
X-PUBLISHED-TTL:PT1H
BEGIN:VTIMEZONE
TZID:America/New_York
BEGIN:DAYLIGHT
TZOFFSETFROM:-0500
TZOFFSETTO:-0400
TZNAME:EDT
DTSTART:20240310T070000
END:DAYLIGHT
BEGIN:STANDARD
TZOFFSETFROM:-0400
TZOFFSETTO:-0500
TZNAME:EST
DTSTART:20241103T060000
END:STANDARD
BEGIN:DAYLIGHT
TZOFFSETFROM:-0500
TZOFFSETTO:-0400
TZNAME:EDT
DTSTART:20250309T070000
END:DAYLIGHT
BEGIN:STANDARD
TZOFFSETFROM:-0400
TZOFFSETTO:-0500
TZNAME:EST
DTSTART:20251102T060000
END:STANDARD
BEGIN:DAYLIGHT
TZOFFSETFROM:-0500
TZOFFSETTO:-0400
TZNAME:EDT
DTSTART:20260308T070000
END:DAYLIGHT
BEGIN:STANDARD
TZOFFSETFROM:-0400
TZOFFSETTO:-0500
TZNAME:EST
DTSTART:20261101T060000
END:STANDARD
END:VTIMEZONE
BEGIN:VEVENT
DTSTART;TZID=America/New_York:20250306T133000
DTEND;TZID=America/New_York:20250306T153000
DTSTAMP:20260421T183203
CREATED:20241122T201003Z
LAST-MODIFIED:20241219T194834Z
UID:30853-1741267800-1741275000@tnfw.org
SUMMARY:First Thursdays: Community Walks- March 6\, 2025
DESCRIPTION:How many wildflowers can you name? This time of year\, spring wildflowers are carpeting the forest floor. Let’s see how many different species we can find. Emily Ferguson\, a Virginia Master Naturalist and Tree Steward\, will point out the wildflowers along the Stoney Park Trail.  We will meet in the parking lot off of Stoney Creek West. Wear appropriate shoes and gear. This hike is rated moderate. Please register in advance online.
URL:https://tnfw.org/event/first-thursdays-community-walks-march-6-2025/
CATEGORIES:Community Walk,Hikes
ATTACH;FMTTYPE=image/jpeg:https://tnfw.org/wp-content/uploads/2024/11/valley-trail.jpg
END:VEVENT
END:VCALENDAR