BEGIN:VCALENDAR
VERSION:2.0
PRODID:-//The Nature Foundation at Wintergreen - ECPv6.15.14//NONSGML v1.0//EN
CALSCALE:GREGORIAN
METHOD:PUBLISH
X-WR-CALNAME:The Nature Foundation at Wintergreen
X-ORIGINAL-URL:https://tnfw.org
X-WR-CALDESC:Events for The Nature Foundation at Wintergreen
REFRESH-INTERVAL;VALUE=DURATION:PT1H
X-Robots-Tag:noindex
X-PUBLISHED-TTL:PT1H
BEGIN:VTIMEZONE
TZID:America/New_York
BEGIN:DAYLIGHT
TZOFFSETFROM:-0500
TZOFFSETTO:-0400
TZNAME:EDT
DTSTART:20250309T070000
END:DAYLIGHT
BEGIN:STANDARD
TZOFFSETFROM:-0400
TZOFFSETTO:-0500
TZNAME:EST
DTSTART:20251102T060000
END:STANDARD
BEGIN:DAYLIGHT
TZOFFSETFROM:-0500
TZOFFSETTO:-0400
TZNAME:EDT
DTSTART:20260308T070000
END:DAYLIGHT
BEGIN:STANDARD
TZOFFSETFROM:-0400
TZOFFSETTO:-0500
TZNAME:EST
DTSTART:20261101T060000
END:STANDARD
BEGIN:DAYLIGHT
TZOFFSETFROM:-0500
TZOFFSETTO:-0400
TZNAME:EDT
DTSTART:20270314T070000
END:DAYLIGHT
BEGIN:STANDARD
TZOFFSETFROM:-0400
TZOFFSETTO:-0500
TZNAME:EST
DTSTART:20271107T060000
END:STANDARD
END:VTIMEZONE
BEGIN:VEVENT
DTSTART;TZID=America/New_York:20260413T130000
DTEND;TZID=America/New_York:20260413T150000
DTSTAMP:20260420T013310
CREATED:20260225T192236Z
LAST-MODIFIED:20260225T192236Z
UID:34233-1776085200-1776092400@tnfw.org
SUMMARY:Community Walk - April 13\, 2026
DESCRIPTION:Let’s check out what has sprung this spring! While locating different plants\, we will keep our eyes peeled for insects\, amphibians\, birds\, and other small wildlife using vegetation as cover.  Join Emily Ferguson\, a volunteer for The Nature Foundation at Wintergreen\, for a walk of the Stoney Creek Park trail. We will meet in the parking lot at Stoney Creek Park on Stoney Creek West. Wear appropriate shoes and gear.This hike is rated easy-moderate. Please register in advance. FREE. \n 
URL:https://tnfw.org/event/community-walk-april-13-2026/
CATEGORIES:Community Walk
ATTACH;FMTTYPE=image/jpeg:https://tnfw.org/wp-content/uploads/2026/01/sapsucker.jpg
END:VEVENT
END:VCALENDAR